Name | Last modified | Size | Description | |
---|---|---|---|---|
Parent Directory | - | |||
checksrc-summary.dcf | 27-Jul-2024 00:38 | 414 | ||
checksrc-out.txt | 27-Jul-2024 00:38 | 4.2K | ||
buildsrc-summary.dcf | 27-Jul-2024 00:38 | 423 | ||
buildsrc-out.txt | 27-Jul-2024 00:38 | 860 | ||
install-out.txt | 27-Jul-2024 00:38 | 2.1K | ||
install-summary.dcf | 27-Jul-2024 00:38 | 259 | ||