Index of /checkResults/devel/bioc-LATEST/BPRMeth/raw-results/merida1

[ICO]NameLast modifiedSizeDescription

[DIR]Parent Directory  -  
[TXT]buildbin-out.txt21-May-2024 00:37 6.1K 
[   ]buildbin-summary.dcf21-May-2024 00:37 529  
[TXT]buildsrc-out.txt21-May-2024 00:37 846  
[   ]buildsrc-summary.dcf21-May-2024 00:37 428  
[TXT]checksrc-out.txt21-May-2024 00:37 4.6K 
[   ]checksrc-summary.dcf21-May-2024 00:37 444  
[TXT]install-out.txt21-May-2024 00:37 2.6K 
[   ]install-summary.dcf21-May-2024 00:37 269