Name | Last modified | Size | Description | |
---|---|---|---|---|
Parent Directory | - | |||
buildbin-out.txt | 27-Jul-2024 00:40 | 6.1K | ||
buildbin-summary.dcf | 27-Jul-2024 00:40 | 530 | ||
buildsrc-out.txt | 27-Jul-2024 00:40 | 846 | ||
buildsrc-summary.dcf | 27-Jul-2024 00:40 | 427 | ||
checksrc-out.txt | 27-Jul-2024 00:40 | 4.2K | ||
checksrc-summary.dcf | 27-Jul-2024 00:40 | 444 | ||
install-out.txt | 27-Jul-2024 00:40 | 2.6K | ||
install-summary.dcf | 27-Jul-2024 00:40 | 269 | ||