Index of /checkResults/devel/bioc-LATEST/BPRMeth/raw-results/kjohnson3

[ICO]NameLast modifiedSizeDescription

[DIR]Parent Directory  -  
[TXT]buildbin-out.txt16-Jul-2024 00:42 6.1K 
[   ]buildbin-summary.dcf16-Jul-2024 00:42 530  
[TXT]buildsrc-out.txt16-Jul-2024 00:42 846  
[   ]buildsrc-summary.dcf16-Jul-2024 00:42 427  
[TXT]checksrc-out.txt16-Jul-2024 00:42 4.2K 
[   ]checksrc-summary.dcf16-Jul-2024 00:42 443  
[TXT]install-out.txt16-Jul-2024 00:42 2.6K 
[   ]install-summary.dcf16-Jul-2024 00:42 268