Name | Last modified | Size | Description | |
---|---|---|---|---|
Parent Directory | - | |||
install-summary.dcf | 12-Jun-2024 04:42 | 269 | ||
install-out.txt | 12-Jun-2024 04:42 | 2.6K | ||
checksrc-summary.dcf | 12-Jun-2024 04:42 | 444 | ||
checksrc-out.txt | 12-Jun-2024 04:42 | 4.2K | ||
buildsrc-summary.dcf | 12-Jun-2024 04:42 | 428 | ||
buildsrc-out.txt | 12-Jun-2024 04:42 | 846 | ||
buildbin-summary.dcf | 12-Jun-2024 04:42 | 530 | ||
buildbin-out.txt | 12-Jun-2024 04:42 | 6.1K | ||