Back to Multiple platform build/check report for BioC 3.17
A[B]CDEFGHIJKLMNOPQRSTUVWXYZ

This page was generated on 2022-12-02 11:05:35 -0500 (Fri, 02 Dec 2022).

HostnameOSArch (*)R versionInstalled pkgs
nebbiolo1Linux (Ubuntu 22.04.1 LTS)x86_64R Under development (unstable) (2022-11-30 r83393) -- "Unsuffered Consequences" 4210
palomino3Windows Server 2022 Datacenterx64R Under development (unstable) (2022-11-30 r83393 ucrt) -- "Unsuffered Consequences" 4122
merida1macOS 10.14.6 Mojavex86_64R Under development (unstable) (2022-11-30 r83393) -- "Unsuffered Consequences" 4188
Click on any hostname to see more info about the system (e.g. compilers)      (*) as reported by 'uname -p', except on Windows and Mac OS X

INSTALL results for BPRMeth on nebbiolo1


To the developers/maintainers of the BPRMeth package:
- Please allow up to 24 hours (and sometimes 48 hours) for your latest push to git@git.bioconductor.org:packages/BPRMeth.git to
reflect on this report. See How and When does the builder pull? When will my changes propagate? for more information.
- Make sure to use the following settings in order to reproduce any error or warning you see on this page.

raw results

Package 215/2155HostnameOS / ArchINSTALLBUILDCHECKBUILD BIN
BPRMeth 1.25.0  (landing page)
Chantriolnt-Andreas Kapourani
Snapshot Date: 2022-12-01 14:00:17 -0500 (Thu, 01 Dec 2022)
git_url: https://git.bioconductor.org/packages/BPRMeth
git_branch: master
git_last_commit: c1d6df2
git_last_commit_date: 2022-11-01 11:14:50 -0500 (Tue, 01 Nov 2022)
nebbiolo1Linux (Ubuntu 22.04.1 LTS) / x86_64  OK    OK    OK  UNNEEDED, same version is already published
palomino3Windows Server 2022 Datacenter / x64  OK    OK    OK    OK  NO, package depends on 'GenomicRanges' which is not available
merida1macOS 10.14.6 Mojave / x86_64  OK    OK    OK    OK  UNNEEDED, same version is already published

Summary

Package: BPRMeth
Version: 1.25.0
Command: /home/biocbuild/bbs-3.17-bioc/R/bin/R CMD INSTALL BPRMeth
StartedAt: 2022-12-01 15:46:26 -0500 (Thu, 01 Dec 2022)
EndedAt: 2022-12-01 15:46:56 -0500 (Thu, 01 Dec 2022)
EllapsedTime: 30.1 seconds
RetCode: 0
Status:   OK  

Command output

##############################################################################
##############################################################################
###
### Running command:
###
###   /home/biocbuild/bbs-3.17-bioc/R/bin/R CMD INSTALL BPRMeth
###
##############################################################################
##############################################################################


* installing to library ‘/home/biocbuild/bbs-3.17-bioc/R/library’
* installing *source* package ‘BPRMeth’ ...
** using staged installation
** libs
g++ -std=gnu++11 -I"/home/biocbuild/bbs-3.17-bioc/R/include" -DNDEBUG  -I'/home/biocbuild/bbs-3.17-bioc/R/library/Rcpp/include' -I'/home/biocbuild/bbs-3.17-bioc/R/library/RcppArmadillo/include' -I/usr/local/include   -fopenmp  -fpic  -g -O2  -Wall -c RcppExports.cpp -o RcppExports.o
g++ -std=gnu++11 -I"/home/biocbuild/bbs-3.17-bioc/R/include" -DNDEBUG  -I'/home/biocbuild/bbs-3.17-bioc/R/library/Rcpp/include' -I'/home/biocbuild/bbs-3.17-bioc/R/library/RcppArmadillo/include' -I/usr/local/include   -fopenmp  -fpic  -g -O2  -Wall -c model_likelihood.cpp -o model_likelihood.o
g++ -std=gnu++11 -shared -L/home/biocbuild/bbs-3.17-bioc/R/lib -L/usr/local/lib -o BPRMeth.so RcppExports.o model_likelihood.o -fopenmp -llapack -L/home/biocbuild/bbs-3.17-bioc/R/lib -lRblas -lgfortran -lm -lquadmath -L/home/biocbuild/bbs-3.17-bioc/R/lib -lR
installing to /home/biocbuild/bbs-3.17-bioc/R/library/00LOCK-BPRMeth/00new/BPRMeth/libs
** R
** data
*** moving datasets to lazyload DB
** inst
** byte-compile and prepare package for lazy loading
** help
*** installing help indices
** building package indices
** installing vignettes
** testing if installed package can be loaded from temporary location
** checking absolute paths in shared objects and dynamic libraries
** testing if installed package can be loaded from final location
** testing if installed package keeps a record of temporary installation path
* DONE (BPRMeth)