Back to Multiple platform build/check report for BioC 3.13 |
|
This page was generated on 2021-01-25 12:35:10 -0500 (Mon, 25 Jan 2021).
TO THE DEVELOPERS/MAINTAINERS OF THE BBCAnalyzer PACKAGE: Please make sure to use the following settings in order to reproduce any error or warning you see on this page. |
Package 127/1938 | Hostname | OS / Arch | INSTALL | BUILD | CHECK | BUILD BIN | ||||||
BBCAnalyzer 1.21.0 Sarah Sandmann
| malbec2 | Linux (Ubuntu 20.04.1 LTS) / x86_64 | OK | OK | OK | ![]() | ||||||
tokay2 | Windows Server 2012 R2 Standard / x64 | OK | [ OK ] | WARNINGS | OK | ![]() | ||||||
riesling1 | Windows Server 2019 Standard / x64 | OK | OK | WARNINGS | OK | |||||||
machv2 | macOS 10.14.6 Mojave / x86_64 | OK | OK | OK | OK | ![]() |
Package: BBCAnalyzer |
Version: 1.21.0 |
Command: chmod a+r BBCAnalyzer -R && C:\Users\biocbuild\bbs-3.13-bioc\R\bin\R.exe CMD build --keep-empty-dirs --no-resave-data BBCAnalyzer |
StartedAt: 2021-01-24 20:36:18 -0500 (Sun, 24 Jan 2021) |
EndedAt: 2021-01-24 20:45:14 -0500 (Sun, 24 Jan 2021) |
EllapsedTime: 536.0 seconds |
RetCode: 0 |
Status: OK |
PackageFile: BBCAnalyzer_1.21.0.tar.gz |
PackageFileSize: 2.125 MiB |
############################################################################## ############################################################################## ### ### Running command: ### ### chmod a+r BBCAnalyzer -R && C:\Users\biocbuild\bbs-3.13-bioc\R\bin\R.exe CMD build --keep-empty-dirs --no-resave-data BBCAnalyzer ### ############################################################################## ############################################################################## * checking for file 'BBCAnalyzer/DESCRIPTION' ... OK * preparing 'BBCAnalyzer': * checking DESCRIPTION meta-information ... OK * installing the package to process help pages * saving partial Rd database * creating vignettes ... OK * checking for LF line-endings in source and make files and shell scripts * checking for empty or unneeded directories * building 'BBCAnalyzer_1.21.0.tar.gz'