Back to Multiple platform build/check report for BioC 3.13
A[B]CDEFGHIJKLMNOPQRSTUVWXYZ

BUILD BIN report for BBCAnalyzer on riesling1

This page was generated on 2021-01-25 12:38:30 -0500 (Mon, 25 Jan 2021).

TO THE DEVELOPERS/MAINTAINERS OF THE BBCAnalyzer PACKAGE: Please make sure to use the following settings in order to reproduce any error or warning you see on this page.
Package 127/1938HostnameOS / ArchINSTALLBUILDCHECKBUILD BIN
BBCAnalyzer 1.21.0
Sarah Sandmann
Snapshot Date: 2021-01-24 14:40:26 -0500 (Sun, 24 Jan 2021)
URL: https://git.bioconductor.org/packages/BBCAnalyzer
Branch: master
Last Commit: 24a6c8d
Last Changed Date: 2020-10-27 11:07:22 -0500 (Tue, 27 Oct 2020)
malbec2 Linux (Ubuntu 20.04.1 LTS) / x86_64  OK  OK  OK UNNEEDED, same version exists in internal repository
tokay2 Windows Server 2012 R2 Standard / x64  OK  OK  WARNINGS  OK UNNEEDED, same version exists in internal repository
riesling1 Windows Server 2019 Standard / x64  OK  OK  WARNINGS [ OK ]
machv2 macOS 10.14.6 Mojave / x86_64  OK  OK  OK  OK UNNEEDED, same version exists in internal repository

Summary

Package: BBCAnalyzer
Version: 1.21.0
Command: rm -rf BBCAnalyzer.buildbin-libdir && mkdir BBCAnalyzer.buildbin-libdir && D:\biocbuild\bbs-3.13-bioc\R\bin\R.exe CMD INSTALL --merge-multiarch --build --library=BBCAnalyzer.buildbin-libdir BBCAnalyzer_1.21.0.tar.gz
StartedAt: 2021-01-24 22:47:25 -0500 (Sun, 24 Jan 2021)
EndedAt: 2021-01-24 22:49:40 -0500 (Sun, 24 Jan 2021)
EllapsedTime: 134.9 seconds
RetCode: 0
Status:  OK  
PackageFile: BBCAnalyzer_1.21.0.zip
PackageFileSize: 1.982 MiB

Command output

##############################################################################
##############################################################################
###
### Running command:
###
###   rm -rf BBCAnalyzer.buildbin-libdir && mkdir BBCAnalyzer.buildbin-libdir && D:\biocbuild\bbs-3.13-bioc\R\bin\R.exe CMD INSTALL --merge-multiarch --build --library=BBCAnalyzer.buildbin-libdir BBCAnalyzer_1.21.0.tar.gz
###
##############################################################################
##############################################################################



install for i386

* installing *source* package 'BBCAnalyzer' ...
** using staged installation
** R
** inst
** byte-compile and prepare package for lazy loading
Warning: replacing previous import 'grDevices::windows' by 'GenomicRanges::windows' when loading 'BBCAnalyzer'
** help
*** installing help indices
  converting help for package 'BBCAnalyzer'
    finding HTML links ... done
    BBCAnalyzer-package                     html  
REDIRECT:topic	 BBCAnalyzer -> BBCAnalyzer-package.html [ SUCCESS ]
REDIRECT:topic	 Bases By Cigar Analyzer -> BBCAnalyzer-package.html [ SUCCESS ]
REDIRECT:topic	 BasesByCigar Analyzer -> BBCAnalyzer-package.html [ SUCCESS ]
REDIRECT:topic	 BasesByCigarAnalyzer -> BBCAnalyzer-package.html [ SUCCESS ]
REDIRECT:topic	 Bases Coverage -> BBCAnalyzer-package.html [ SUCCESS ]
REDIRECT:topic	 Cigar Analysis -> BBCAnalyzer-package.html [ SUCCESS ]
REDIRECT:file	 BBCAnalyzer-package.html -> BBCAnalyzer-package.html [ SUCCESS ]
    analyzeBases                            html  
REDIRECT:topic	 analyzeBases -> analyzeBases.html [ SUCCESS ]
REDIRECT:topic	 analyze Bases -> analyzeBases.html [ SUCCESS ]
    analyzeBasesPlotOnly                    html  
REDIRECT:topic	 analyzeBasesPlotOnly -> analyzeBasesPlotOnly.html [ SUCCESS ]
REDIRECT:topic	 analyze Bases Plot Only -> analyzeBasesPlotOnly.html [ SUCCESS ]
** building package indices
** installing vignettes
** testing if installed package can be loaded from temporary location
Warning: replacing previous import 'grDevices::windows' by 'GenomicRanges::windows' when loading 'BBCAnalyzer'
** testing if installed package can be loaded from final location
Warning: replacing previous import 'grDevices::windows' by 'GenomicRanges::windows' when loading 'BBCAnalyzer'
** testing if installed package keeps a record of temporary installation path

install for x64

* installing *source* package 'BBCAnalyzer' ...
** testing if installed package can be loaded
Warning: replacing previous import 'grDevices::windows' by 'GenomicRanges::windows' when loading 'BBCAnalyzer'
* MD5 sums
packaged installation of 'BBCAnalyzer' as BBCAnalyzer_1.21.0.zip
* DONE (BBCAnalyzer)