Name | Last modified | Size | Description | |
---|---|---|---|---|
Parent Directory | - | |||
buildbin-summary.dcf | 17-Jul-2024 00:40 | 545 | ||
buildbin-out.txt | 17-Jul-2024 00:40 | 1.4K | ||
checksrc-summary.dcf | 17-Jul-2024 00:40 | 481 | ||
checksrc-out.txt | 17-Jul-2024 00:40 | 8.1K | ||
buildsrc-summary.dcf | 17-Jul-2024 00:40 | 475 | ||
buildsrc-out.txt | 17-Jul-2024 00:40 | 898 | ||
install-summary.dcf | 17-Jul-2024 00:40 | 282 | ||
install-out.txt | 17-Jul-2024 00:40 | 1.3K | ||