Index of /checkResults/devel/bioc-LATEST/BBCAnalyzer/raw-results/palomino4

[ICO]NameLast modifiedSizeDescription

[DIR]Parent Directory  -  
[TXT]buildbin-out.txt02-Jul-2022 00:05 1.5K 
[   ]buildbin-summary.dcf02-Jul-2022 00:05 557  
[TXT]buildsrc-out.txt02-Jul-2022 00:05 892  
[   ]buildsrc-summary.dcf02-Jul-2022 00:05 469  
[TXT]checksrc-out.txt02-Jul-2022 00:05 7.9K 
[   ]checksrc-summary.dcf02-Jul-2022 00:05 472  
[TXT]install-out.txt02-Jul-2022 00:05 2.2K 
[   ]install-summary.dcf02-Jul-2022 00:05 664