Index of /checkResults/devel/bioc-LATEST/BBCAnalyzer/raw-results/lconway

[ICO]NameLast modifiedSizeDescription

[DIR]Parent Directory  -  
[   ]install-summary.dcf13-Aug-2022 00:07 277  
[   ]buildsrc-summary.dcf13-Aug-2022 00:07 440  
[   ]checksrc-summary.dcf13-Aug-2022 00:07 460  
[   ]buildbin-summary.dcf13-Aug-2022 00:07 554  
[TXT]buildsrc-out.txt13-Aug-2022 00:07 864  
[TXT]install-out.txt13-Aug-2022 00:07 1.0K 
[TXT]buildbin-out.txt13-Aug-2022 00:07 1.2K 
[TXT]checksrc-out.txt13-Aug-2022 00:07 7.8K