Name | Last modified | Size | Description | |
---|---|---|---|---|
Parent Directory | - | |||
buildsrc-out.txt | 09-Jul-2024 00:44 | 842 | ||
buildsrc-summary.dcf | 09-Jul-2024 00:44 | 418 | ||
checksrc-out.txt | 09-Jul-2024 00:44 | 7.9K | ||
checksrc-summary.dcf | 09-Jul-2024 00:44 | 421 | ||
install-out.txt | 07-Jul-2024 00:44 | 946 | ||
install-summary.dcf | 07-Jul-2024 00:44 | 255 | ||