Back to Multiple platform build/check report for BioC 3.14
A[B]CDEFGHIJKLMNOPQRSTUVWXYZ

This page was generated on 2021-10-23 14:06:19 -0400 (Sat, 23 Oct 2021).

CHECK results for BASiCS on riesling1

To the developers/maintainers of the BASiCS package:
- Please allow up to 24 hours (and sometimes 48 hours) for your latest push to git@git.bioconductor.org:packages/BASiCS.git to
reflect on this report. See How and When does the builder pull? When will my changes propagate? here for more information.
- Make sure to use the following settings in order to reproduce any error or warning you see on this page.

raw results

Package 118/2083HostnameOS / ArchINSTALLBUILDCHECKBUILD BIN
BASiCS 2.5.7  (landing page)
Alan O'Callaghan
Snapshot Date: 2021-10-22 14:50:11 -0400 (Fri, 22 Oct 2021)
git_url: https://git.bioconductor.org/packages/BASiCS
git_branch: master
git_last_commit: 14e754d
git_last_commit_date: 2021-10-06 14:45:05 -0400 (Wed, 06 Oct 2021)
nebbiolo2Linux (Ubuntu 20.04.2 LTS) / x86_64  OK    OK    OK  UNNEEDED, same version is already published
riesling1Windows Server 2019 Standard / x64  OK    OK    OK    OK  UNNEEDED, same version is already published
merida1macOS 10.14.6 Mojave / x86_64  OK    OK    OK    OK  UNNEEDED, same version is already published

Summary

Package: BASiCS
Version: 2.5.7
Command: D:\biocbuild\bbs-3.14-bioc\R\bin\R.exe CMD check --force-multiarch --install=check:BASiCS.install-out.txt --library=D:\biocbuild\bbs-3.14-bioc\R\library --no-vignettes --timings BASiCS_2.5.7.tar.gz
StartedAt: 2021-10-23 05:01:20 -0400 (Sat, 23 Oct 2021)
EndedAt: 2021-10-23 05:15:31 -0400 (Sat, 23 Oct 2021)
EllapsedTime: 850.4 seconds
RetCode: 0
Status:   OK  
CheckDir: BASiCS.Rcheck
Warnings: 0

Command output

##############################################################################
##############################################################################
###
### Running command:
###
###   D:\biocbuild\bbs-3.14-bioc\R\bin\R.exe CMD check --force-multiarch --install=check:BASiCS.install-out.txt --library=D:\biocbuild\bbs-3.14-bioc\R\library --no-vignettes --timings BASiCS_2.5.7.tar.gz
###
##############################################################################
##############################################################################


* using log directory 'D:/biocbuild/bbs-3.14-bioc/meat/BASiCS.Rcheck'
* using R version 4.1.1 (2021-08-10)
* using platform: x86_64-w64-mingw32 (64-bit)
* using session charset: ISO8859-1
* using option '--no-vignettes'
* checking for file 'BASiCS/DESCRIPTION' ... OK
* checking extension type ... Package
* this is package 'BASiCS' version '2.5.7'
* package encoding: UTF-8
* checking package namespace information ... OK
* checking package dependencies ... OK
* checking if this is a source package ... OK
* checking if there is a namespace ... OK
* checking for hidden files and directories ... OK
* checking for portable file names ... OK
* checking whether package 'BASiCS' can be installed ... OK
* checking installed package size ... NOTE
  installed size is  6.4Mb
  sub-directories of 1Mb or more:
    data   2.0Mb
    libs   3.0Mb
* checking package directory ... OK
* checking 'build' directory ... OK
* checking DESCRIPTION meta-information ... OK
* checking top-level files ... OK
* checking for left-over files ... OK
* checking index information ... OK
* checking package subdirectories ... OK
* checking R files for non-ASCII characters ... OK
* checking R files for syntax errors ... OK
* loading checks for arch 'i386'
** checking whether the package can be loaded ... OK
** checking whether the package can be loaded with stated dependencies ... OK
** checking whether the package can be unloaded cleanly ... OK
** checking whether the namespace can be loaded with stated dependencies ... OK
** checking whether the namespace can be unloaded cleanly ... OK
* loading checks for arch 'x64'
** checking whether the package can be loaded ... OK
** checking whether the package can be loaded with stated dependencies ... OK
** checking whether the package can be unloaded cleanly ... OK
** checking whether the namespace can be loaded with stated dependencies ... OK
** checking whether the namespace can be unloaded cleanly ... OK
* checking dependencies in R code ... OK
* checking S3 generic/method consistency ... OK
* checking replacement functions ... OK
* checking foreign function calls ... OK
* checking R code for possible problems ... OK
* checking Rd files ... OK
* checking Rd metadata ... OK
* checking Rd cross-references ... OK
* checking for missing documentation entries ... OK
* checking for code/documentation mismatches ... OK
* checking Rd \usage sections ... OK
* checking Rd contents ... OK
* checking for unstated dependencies in examples ... OK
* checking contents of 'data' directory ... OK
* checking data for non-ASCII characters ... OK
* checking LazyData ... OK
* checking data for ASCII and uncompressed saves ... OK
* checking line endings in C/C++/Fortran sources/headers ... OK
* checking line endings in Makefiles ... OK
* checking compilation flags in Makevars ... OK
* checking for GNU extensions in Makefiles ... OK
* checking for portable use of $(BLAS_LIBS) and $(LAPACK_LIBS) ... OK
* checking use of PKG_*FLAGS in Makefiles ... OK
* checking compiled code ... NOTE
Note: information on .o files for i386 is not available
Note: information on .o files for x64 is not available
File 'D:/biocbuild/bbs-3.14-bioc/R/library/BASiCS/libs/i386/BASiCS.dll':
  Found '_exit', possibly from '_exit' (C)
  Found 'abort', possibly from 'abort' (C), 'runtime' (Fortran)
  Found 'exit', possibly from 'exit' (C), 'stop' (Fortran)
  Found 'printf', possibly from 'printf' (C)
File 'D:/biocbuild/bbs-3.14-bioc/R/library/BASiCS/libs/x64/BASiCS.dll':
  Found '_exit', possibly from '_exit' (C)
  Found 'abort', possibly from 'abort' (C), 'runtime' (Fortran)
  Found 'exit', possibly from 'exit' (C), 'stop' (Fortran)
  Found 'printf', possibly from 'printf' (C)

Compiled code should not call entry points which might terminate R nor
write to stdout/stderr instead of to the console, nor use Fortran I/O
nor system RNGs. The detected symbols are linked into the code but
might come from libraries and not actually be called.

See 'Writing portable packages' in the 'Writing R Extensions' manual.
* checking files in 'vignettes' ... OK
* checking examples ...
** running examples for arch 'i386' ... OK
Examples with CPU (user + system) or elapsed time > 5s
                        user system elapsed
BASiCS_MCMC             5.81   0.04    5.85
BASiCS_DivideAndConquer 1.83   0.03   11.82
** running examples for arch 'x64' ... OK
Examples with CPU (user + system) or elapsed time > 5s
                        user system elapsed
BASiCS_MCMC             6.47   0.03    6.50
BASiCS_DivideAndConquer 2.10   0.03   13.44
* checking for unstated dependencies in 'tests' ... OK
* checking tests ...
** running tests for arch 'i386' ...
  Running 'testthat.R'
 OK
** running tests for arch 'x64' ...
  Running 'testthat.R'
 OK
* checking for unstated dependencies in vignettes ... OK
* checking package vignettes in 'inst/doc' ... OK
* checking running R code from vignettes ... SKIPPED
* checking re-building of vignette outputs ... SKIPPED
* checking PDF version of manual ... OK
* DONE

Status: 2 NOTEs
See
  'D:/biocbuild/bbs-3.14-bioc/meat/BASiCS.Rcheck/00check.log'
for details.



Installation output

BASiCS.Rcheck/00install.out

##############################################################################
##############################################################################
###
### Running command:
###
###   C:\cygwin\bin\curl.exe -O http://155.52.207.166/BBS/3.14/bioc/src/contrib/BASiCS_2.5.7.tar.gz && rm -rf BASiCS.buildbin-libdir && mkdir BASiCS.buildbin-libdir && D:\biocbuild\bbs-3.14-bioc\R\bin\R.exe CMD INSTALL --merge-multiarch --build --library=BASiCS.buildbin-libdir BASiCS_2.5.7.tar.gz && D:\biocbuild\bbs-3.14-bioc\R\bin\R.exe CMD INSTALL BASiCS_2.5.7.zip && rm BASiCS_2.5.7.tar.gz BASiCS_2.5.7.zip
###
##############################################################################
##############################################################################


  % Total    % Received % Xferd  Average Speed   Time    Time     Time  Current
                                 Dload  Upload   Total   Spent    Left  Speed

  0     0    0     0    0     0      0      0 --:--:-- --:--:-- --:--:--     0
  0     0    0     0    0     0      0      0 --:--:-- --:--:-- --:--:--     0
100 2421k  100 2421k    0     0  4048k      0 --:--:-- --:--:-- --:--:-- 4042k

install for i386

* installing *source* package 'BASiCS' ...
** using staged installation
** libs
"C:/rtools40/mingw32/bin/"g++  -std=gnu++11 -I"D:/biocbuild/bbs-3.14-bioc/R/include" -DNDEBUG  -I'D:/biocbuild/bbs-3.14-bioc/R/library/Rcpp/include' -I'D:/biocbuild/bbs-3.14-bioc/R/library/RcppArmadillo/include'   -I"C:/extsoft/include"  -fopenmp   -O2 -Wall  -mfpmath=sse -msse2 -mstackrealign  -c BASiCS.cpp -o BASiCS.o
"C:/rtools40/mingw32/bin/"g++  -std=gnu++11 -I"D:/biocbuild/bbs-3.14-bioc/R/include" -DNDEBUG  -I'D:/biocbuild/bbs-3.14-bioc/R/library/Rcpp/include' -I'D:/biocbuild/bbs-3.14-bioc/R/library/RcppArmadillo/include'   -I"C:/extsoft/include"  -fopenmp   -O2 -Wall  -mfpmath=sse -msse2 -mstackrealign  -c RcppExports.cpp -o RcppExports.o
C:/rtools40/mingw32/bin/g++ -shared -s -static-libgcc -o BASiCS.dll tmp.def BASiCS.o RcppExports.o -LD:/biocbuild/bbs-3.14-bioc/R/bin/i386 -lRlapack -LD:/biocbuild/bbs-3.14-bioc/R/bin/i386 -lRblas -lgfortran -lm -lquadmath -fopenmp -LC:/extsoft/lib/i386 -LC:/extsoft/lib -LD:/biocbuild/bbs-3.14-bioc/R/bin/i386 -lR
installing to D:/biocbuild/bbs-3.14-bioc/meat/BASiCS.buildbin-libdir/00LOCK-BASiCS/00new/BASiCS/libs/i386
** R
** data
*** moving datasets to lazyload DB
** inst
** byte-compile and prepare package for lazy loading
** help
*** installing help indices
  converting help for package 'BASiCS'
    finding HTML links ... done
    BASiCS-defunct                          html  
    BASiCS_Chain-methods                    html  
    BASiCS_Chain                            html  
    BASiCS_CorrectOffset                    html  
    BASiCS_DenoisedCounts                   html  
    finding level-2 HTML links ... done

    BASiCS_DenoisedRates                    html  
    BASiCS_DetectVG                         html  
    BASiCS_DiagHist                         html  
REDIRECT:topic	 Previous alias or file overwritten by alias: D:/biocbuild/bbs-3.14-bioc/meat/BASiCS.buildbin-libdir/00LOCK-BASiCS/00new/BASiCS/help/BASiCS_diagHist.html
    BASiCS_DiagPlot                         html  
REDIRECT:topic	 Previous alias or file overwritten by alias: D:/biocbuild/bbs-3.14-bioc/meat/BASiCS.buildbin-libdir/00LOCK-BASiCS/00new/BASiCS/help/BASiCS_diagPlot.html
    BASiCS_DivideAndConquer                 html  
    BASiCS_Draw                             html  
    BASiCS_EffectiveSize                    html  
REDIRECT:topic	 Previous alias or file overwritten by alias: D:/biocbuild/bbs-3.14-bioc/meat/BASiCS.buildbin-libdir/00LOCK-BASiCS/00new/BASiCS/help/BASiCS_effectiveSize.html
    BASiCS_Filter                           html  
    BASiCS_LoadChain                        html  
    BASiCS_MCMC                             html  
    BASiCS_MockSCE                          html  
    BASiCS_PlotDE                           html  
    BASiCS_PlotOffset                       html  
    BASiCS_PlotVG                           html  
    BASiCS_PriorParam                       html  
    BASiCS_Result                           html  
    BASiCS_ResultDE                         html  
    BASiCS_ResultVG                         html  
    BASiCS_ResultsDE                        html  
    BASiCS_ShowFit                          html  
REDIRECT:topic	 Previous alias or file overwritten by alias: D:/biocbuild/bbs-3.14-bioc/meat/BASiCS.buildbin-libdir/00LOCK-BASiCS/00new/BASiCS/help/BASiCS_showFit.html
    BASiCS_Sim                              html  
    BASiCS_Summary-methods                  html  
    BASiCS_Summary                          html  
    BASiCS_TestDE                           html  
    BASiCS_VarThresholdSearchHVG_LVG        html  
    BASiCS_VarianceDecomp                   html  
    ChainRNA                                html  
    ChainRNAReg                             html  
    ChainSC                                 html  
    ChainSCReg                              html  
    Summary-BASiCS_Chain-method             html  
    as.data.frame-methods                   html  
    dim-BASiCS_Chain-method                 html  
    dimnames-BASiCS_Chain-method            html  
    displayChainBASiCS-BASiCS_Chain-method
                                            html  
    displaySummaryBASiCS-BASiCS_Summary-method
                                            html  
    dot-generateSubsets                     html  
    format-methods                          html  
    makeExampleBASiCS_Data                  html  
    newBASiCS_Chain                         html  
    newBASiCS_Data                          html  
    plot-BASiCS_Chain-method                html  
    plot-BASiCS_Summary-method              html  
    rowData                                 html  
    show-BASiCS_ResultDE-method             html  
    show-BASiCS_ResultVG-method             html  
    show-BASiCS_ResultsDE-method            html  
    subset-BASiCS_Chain-method              html  
    subset-methods                          html  
** building package indices
** installing vignettes
** testing if installed package can be loaded from temporary location
** testing if installed package can be loaded from final location
** testing if installed package keeps a record of temporary installation path

install for x64

* installing *source* package 'BASiCS' ...
** libs
"C:/rtools40/mingw64/bin/"g++  -std=gnu++11 -I"D:/biocbuild/bbs-3.14-bioc/R/include" -DNDEBUG  -I'D:/biocbuild/bbs-3.14-bioc/R/library/Rcpp/include' -I'D:/biocbuild/bbs-3.14-bioc/R/library/RcppArmadillo/include'   -I"C:/extsoft/include"  -fopenmp   -O2 -Wall  -mfpmath=sse -msse2 -mstackrealign  -c BASiCS.cpp -o BASiCS.o
"C:/rtools40/mingw64/bin/"g++  -std=gnu++11 -I"D:/biocbuild/bbs-3.14-bioc/R/include" -DNDEBUG  -I'D:/biocbuild/bbs-3.14-bioc/R/library/Rcpp/include' -I'D:/biocbuild/bbs-3.14-bioc/R/library/RcppArmadillo/include'   -I"C:/extsoft/include"  -fopenmp   -O2 -Wall  -mfpmath=sse -msse2 -mstackrealign  -c RcppExports.cpp -o RcppExports.o
C:/rtools40/mingw64/bin/g++ -shared -s -static-libgcc -o BASiCS.dll tmp.def BASiCS.o RcppExports.o -LD:/biocbuild/bbs-3.14-bioc/R/bin/x64 -lRlapack -LD:/biocbuild/bbs-3.14-bioc/R/bin/x64 -lRblas -lgfortran -lm -lquadmath -fopenmp -LC:/extsoft/lib/x64 -LC:/extsoft/lib -LD:/biocbuild/bbs-3.14-bioc/R/bin/x64 -lR
installing to D:/biocbuild/bbs-3.14-bioc/meat/BASiCS.buildbin-libdir/BASiCS/libs/x64
** testing if installed package can be loaded
* MD5 sums
packaged installation of 'BASiCS' as BASiCS_2.5.7.zip
* DONE (BASiCS)
* installing to library 'D:/biocbuild/bbs-3.14-bioc/R/library'
package 'BASiCS' successfully unpacked and MD5 sums checked

Tests output

BASiCS.Rcheck/tests_i386/testthat.Rout


R version 4.1.1 (2021-08-10) -- "Kick Things"
Copyright (C) 2021 The R Foundation for Statistical Computing
Platform: i386-w64-mingw32/i386 (32-bit)

R is free software and comes with ABSOLUTELY NO WARRANTY.
You are welcome to redistribute it under certain conditions.
Type 'license()' or 'licence()' for distribution details.

R is a collaborative project with many contributors.
Type 'contributors()' for more information and
'citation()' on how to cite R or R packages in publications.

Type 'demo()' for some demos, 'help()' for on-line help, or
'help.start()' for an HTML browser interface to help.
Type 'q()' to quit R.

> library(testthat)
> library(BASiCS)
Loading required package: SingleCellExperiment
Loading required package: SummarizedExperiment
Loading required package: MatrixGenerics
Loading required package: matrixStats

Attaching package: 'MatrixGenerics'

The following objects are masked from 'package:matrixStats':

    colAlls, colAnyNAs, colAnys, colAvgsPerRowSet, colCollapse,
    colCounts, colCummaxs, colCummins, colCumprods, colCumsums,
    colDiffs, colIQRDiffs, colIQRs, colLogSumExps, colMadDiffs,
    colMads, colMaxs, colMeans2, colMedians, colMins, colOrderStats,
    colProds, colQuantiles, colRanges, colRanks, colSdDiffs, colSds,
    colSums2, colTabulates, colVarDiffs, colVars, colWeightedMads,
    colWeightedMeans, colWeightedMedians, colWeightedSds,
    colWeightedVars, rowAlls, rowAnyNAs, rowAnys, rowAvgsPerColSet,
    rowCollapse, rowCounts, rowCummaxs, rowCummins, rowCumprods,
    rowCumsums, rowDiffs, rowIQRDiffs, rowIQRs, rowLogSumExps,
    rowMadDiffs, rowMads, rowMaxs, rowMeans2, rowMedians, rowMins,
    rowOrderStats, rowProds, rowQuantiles, rowRanges, rowRanks,
    rowSdDiffs, rowSds, rowSums2, rowTabulates, rowVarDiffs, rowVars,
    rowWeightedMads, rowWeightedMeans, rowWeightedMedians,
    rowWeightedSds, rowWeightedVars

Loading required package: GenomicRanges
Loading required package: stats4
Loading required package: BiocGenerics

Attaching package: 'BiocGenerics'

The following objects are masked from 'package:stats':

    IQR, mad, sd, var, xtabs

The following objects are masked from 'package:base':

    Filter, Find, Map, Position, Reduce, anyDuplicated, append,
    as.data.frame, basename, cbind, colnames, dirname, do.call,
    duplicated, eval, evalq, get, grep, grepl, intersect, is.unsorted,
    lapply, mapply, match, mget, order, paste, pmax, pmax.int, pmin,
    pmin.int, rank, rbind, rownames, sapply, setdiff, sort, table,
    tapply, union, unique, unsplit, which.max, which.min

Loading required package: S4Vectors

Attaching package: 'S4Vectors'

The following objects are masked from 'package:base':

    I, expand.grid, unname

Loading required package: IRanges

Attaching package: 'IRanges'

The following object is masked from 'package:grDevices':

    windows

Loading required package: GenomeInfoDb
Loading required package: Biobase
Welcome to Bioconductor

    Vignettes contain introductory material; view with
    'browseVignettes()'. To cite Bioconductor, see
    'citation("Biobase")', and for packages 'citation("pkgname")'.


Attaching package: 'Biobase'

The following object is masked from 'package:MatrixGenerics':

    rowMedians

The following objects are masked from 'package:matrixStats':

    anyMissing, rowMedians

    Welcome to 'BASiCS'. If you used 'BASiCS' before its release in
    Bioconductor, please visit:
    https://github.com/catavallejos/BASiCS/wiki.
> 
> test_check("BASiCS")
[ FAIL 0 | WARN 0 | SKIP 0 | PASS 425 ]
> 
> proc.time()
   user  system elapsed 
 180.09    1.26  181.76 

BASiCS.Rcheck/tests_x64/testthat.Rout


R version 4.1.1 (2021-08-10) -- "Kick Things"
Copyright (C) 2021 The R Foundation for Statistical Computing
Platform: x86_64-w64-mingw32/x64 (64-bit)

R is free software and comes with ABSOLUTELY NO WARRANTY.
You are welcome to redistribute it under certain conditions.
Type 'license()' or 'licence()' for distribution details.

R is a collaborative project with many contributors.
Type 'contributors()' for more information and
'citation()' on how to cite R or R packages in publications.

Type 'demo()' for some demos, 'help()' for on-line help, or
'help.start()' for an HTML browser interface to help.
Type 'q()' to quit R.

> library(testthat)
> library(BASiCS)
Loading required package: SingleCellExperiment
Loading required package: SummarizedExperiment
Loading required package: MatrixGenerics
Loading required package: matrixStats

Attaching package: 'MatrixGenerics'

The following objects are masked from 'package:matrixStats':

    colAlls, colAnyNAs, colAnys, colAvgsPerRowSet, colCollapse,
    colCounts, colCummaxs, colCummins, colCumprods, colCumsums,
    colDiffs, colIQRDiffs, colIQRs, colLogSumExps, colMadDiffs,
    colMads, colMaxs, colMeans2, colMedians, colMins, colOrderStats,
    colProds, colQuantiles, colRanges, colRanks, colSdDiffs, colSds,
    colSums2, colTabulates, colVarDiffs, colVars, colWeightedMads,
    colWeightedMeans, colWeightedMedians, colWeightedSds,
    colWeightedVars, rowAlls, rowAnyNAs, rowAnys, rowAvgsPerColSet,
    rowCollapse, rowCounts, rowCummaxs, rowCummins, rowCumprods,
    rowCumsums, rowDiffs, rowIQRDiffs, rowIQRs, rowLogSumExps,
    rowMadDiffs, rowMads, rowMaxs, rowMeans2, rowMedians, rowMins,
    rowOrderStats, rowProds, rowQuantiles, rowRanges, rowRanks,
    rowSdDiffs, rowSds, rowSums2, rowTabulates, rowVarDiffs, rowVars,
    rowWeightedMads, rowWeightedMeans, rowWeightedMedians,
    rowWeightedSds, rowWeightedVars

Loading required package: GenomicRanges
Loading required package: stats4
Loading required package: BiocGenerics

Attaching package: 'BiocGenerics'

The following objects are masked from 'package:stats':

    IQR, mad, sd, var, xtabs

The following objects are masked from 'package:base':

    Filter, Find, Map, Position, Reduce, anyDuplicated, append,
    as.data.frame, basename, cbind, colnames, dirname, do.call,
    duplicated, eval, evalq, get, grep, grepl, intersect, is.unsorted,
    lapply, mapply, match, mget, order, paste, pmax, pmax.int, pmin,
    pmin.int, rank, rbind, rownames, sapply, setdiff, sort, table,
    tapply, union, unique, unsplit, which.max, which.min

Loading required package: S4Vectors

Attaching package: 'S4Vectors'

The following objects are masked from 'package:base':

    I, expand.grid, unname

Loading required package: IRanges

Attaching package: 'IRanges'

The following object is masked from 'package:grDevices':

    windows

Loading required package: GenomeInfoDb
Loading required package: Biobase
Welcome to Bioconductor

    Vignettes contain introductory material; view with
    'browseVignettes()'. To cite Bioconductor, see
    'citation("Biobase")', and for packages 'citation("pkgname")'.


Attaching package: 'Biobase'

The following object is masked from 'package:MatrixGenerics':

    rowMedians

The following objects are masked from 'package:matrixStats':

    anyMissing, rowMedians

    Welcome to 'BASiCS'. If you used 'BASiCS' before its release in
    Bioconductor, please visit:
    https://github.com/catavallejos/BASiCS/wiki.
> 
> test_check("BASiCS")
[ FAIL 0 | WARN 0 | SKIP 0 | PASS 425 ]
> 
> proc.time()
   user  system elapsed 
 191.54    1.70  193.31 

Example timings

BASiCS.Rcheck/examples_i386/BASiCS-Ex.timings

nameusersystemelapsed
BASiCS_Chain-methods2.310.062.37
BASiCS_Chain3.800.033.83
BASiCS_CorrectOffset0.020.010.03
BASiCS_DenoisedCounts2.650.002.66
BASiCS_DenoisedRates2.520.022.53
BASiCS_DetectVG0.860.000.86
BASiCS_DiagHist0.650.000.65
BASiCS_DiagPlot0.380.020.39
BASiCS_DivideAndConquer 1.83 0.0311.82
BASiCS_Draw0.430.010.45
BASiCS_EffectiveSize0.130.020.14
BASiCS_Filter000
BASiCS_LoadChain2.030.012.06
BASiCS_MCMC5.810.045.85
BASiCS_MockSCE0.410.000.40
BASiCS_PlotDE2.000.042.05
BASiCS_PlotOffset0.520.020.53
BASiCS_PlotVG0.230.000.24
BASiCS_PriorParam0.340.000.34
BASiCS_ShowFit0.140.000.14
BASiCS_Sim0.930.000.92
BASiCS_Summary-methods0.000.010.02
BASiCS_Summary2.140.002.14
BASiCS_TestDE404
BASiCS_VarThresholdSearchHVG_LVG1.400.021.42
BASiCS_VarianceDecomp0.130.000.13
Summary-BASiCS_Chain-method0.040.000.04
dim-BASiCS_Chain-method000
dimnames-BASiCS_Chain-method0.020.000.02
displayChainBASiCS-BASiCS_Chain-method0.130.000.20
displaySummaryBASiCS-BASiCS_Summary-method0.140.000.16
makeExampleBASiCS_Data0.360.000.36
newBASiCS_Chain4.070.084.15
plot-BASiCS_Chain-method0.140.000.16
plot-BASiCS_Summary-method0.100.030.12
show-BASiCS_ResultDE-method0.120.010.14
show-BASiCS_ResultVG-method0.100.040.15
show-BASiCS_ResultsDE-method0.070.040.14
subset-BASiCS_Chain-method0.600.000.59

BASiCS.Rcheck/examples_x64/BASiCS-Ex.timings

nameusersystemelapsed
BASiCS_Chain-methods2.550.082.62
BASiCS_Chain4.310.014.33
BASiCS_CorrectOffset0.010.000.01
BASiCS_DenoisedCounts2.910.032.94
BASiCS_DenoisedRates2.760.002.77
BASiCS_DetectVG0.410.070.46
BASiCS_DiagHist0.670.000.68
BASiCS_DiagPlot0.420.010.43
BASiCS_DivideAndConquer 2.10 0.0313.44
BASiCS_Draw0.470.000.47
BASiCS_EffectiveSize0.140.020.16
BASiCS_Filter000
BASiCS_LoadChain2.480.002.50
BASiCS_MCMC6.470.036.50
BASiCS_MockSCE0.440.000.43
BASiCS_PlotDE2.090.032.13
BASiCS_PlotOffset0.530.020.55
BASiCS_PlotVG0.240.000.23
BASiCS_PriorParam0.370.000.38
BASiCS_ShowFit0.160.000.15
BASiCS_Sim0.980.000.99
BASiCS_Summary-methods0.000.010.01
BASiCS_Summary2.700.022.72
BASiCS_TestDE4.270.014.28
BASiCS_VarThresholdSearchHVG_LVG1.310.001.31
BASiCS_VarianceDecomp0.110.020.13
Summary-BASiCS_Chain-method0.030.000.03
dim-BASiCS_Chain-method0.020.000.02
dimnames-BASiCS_Chain-method0.010.000.01
displayChainBASiCS-BASiCS_Chain-method0.110.010.14
displaySummaryBASiCS-BASiCS_Summary-method0.080.050.17
makeExampleBASiCS_Data0.380.000.38
newBASiCS_Chain4.480.024.50
plot-BASiCS_Chain-method0.110.010.12
plot-BASiCS_Summary-method0.110.030.14
show-BASiCS_ResultDE-method0.110.020.15
show-BASiCS_ResultVG-method0.110.020.12
show-BASiCS_ResultsDE-method0.120.000.14
subset-BASiCS_Chain-method0.630.000.63