Index of /checkResults/devel/bioc-LATEST/ArrayExpressHTS/raw-results

[ICO]NameLast modifiedSizeDescription

[DIR]Parent Directory  -  
[   ]info.dcf10-Aug-2022 00:07 318  
[DIR]kjohnson/12-Jul-2022 00:06 -  
[DIR]lconway/10-Aug-2022 00:07 -  
[DIR]nebbiolo2/10-Aug-2022 00:04 -