Back to Multiple platform build/check report for BioC 3.17
[A]BCDEFGHIJKLMNOPQRSTUVWXYZ

This page was generated on 2023-01-28 11:05:04 -0500 (Sat, 28 Jan 2023).

HostnameOSArch (*)R versionInstalled pkgs
nebbiolo1Linux (Ubuntu 22.04.1 LTS)x86_64R Under development (unstable) (2023-01-10 r83596) -- "Unsuffered Consequences" 4465
palomino3Windows Server 2022 Datacenterx64R Under development (unstable) (2023-01-10 r83596 ucrt) -- "Unsuffered Consequences" 4246
merida1macOS 10.14.6 Mojavex86_64R Under development (unstable) (2023-01-10 r83596) -- "Unsuffered Consequences" 4269
Click on any hostname to see more info about the system (e.g. compilers)      (*) as reported by 'uname -p', except on Windows and Mac OS X

BUILD results for ArrayExpressHTS on nebbiolo1


To the developers/maintainers of the ArrayExpressHTS package:
- Please allow up to 24 hours (and sometimes 48 hours) for your latest push to git@git.bioconductor.org:packages/ArrayExpressHTS.git to
reflect on this report. See How and When does the builder pull? When will my changes propagate? for more information.
- Make sure to use the following settings in order to reproduce any error or warning you see on this page.

raw results

Package 75/2162HostnameOS / ArchINSTALLBUILDCHECKBUILD BIN
ArrayExpressHTS 1.49.1  (landing page)
Angela Goncalves , Andrew Tikhonov
Snapshot Date: 2023-01-27 14:00:19 -0500 (Fri, 27 Jan 2023)
git_url: https://git.bioconductor.org/packages/ArrayExpressHTS
git_branch: master
git_last_commit: c9590d2
git_last_commit_date: 2022-12-01 14:06:42 -0500 (Thu, 01 Dec 2022)
nebbiolo1Linux (Ubuntu 22.04.1 LTS) / x86_64  ERROR    ERROR  skipped
palomino3Windows Server 2022 Datacenter / x64... NOT SUPPORTED ...
merida1macOS 10.14.6 Mojave / x86_64  ERROR    ERROR  skippedskipped

Summary

Package: ArrayExpressHTS
Version: 1.49.1
Command: /home/biocbuild/bbs-3.17-bioc/R/bin/R CMD build --keep-empty-dirs --no-resave-data ArrayExpressHTS
StartedAt: 2023-01-27 15:47:50 -0500 (Fri, 27 Jan 2023)
EndedAt: 2023-01-27 15:47:52 -0500 (Fri, 27 Jan 2023)
EllapsedTime: 2.0 seconds
RetCode: 1
Status:   ERROR  
PackageFile: None
PackageFileSize: NA

Command output

##############################################################################
##############################################################################
###
### Running command:
###
###   /home/biocbuild/bbs-3.17-bioc/R/bin/R CMD build --keep-empty-dirs --no-resave-data ArrayExpressHTS
###
##############################################################################
##############################################################################


* checking for file ‘ArrayExpressHTS/DESCRIPTION’ ... OK
* preparing ‘ArrayExpressHTS’:
* checking DESCRIPTION meta-information ... OK
* cleaning src
* installing the package to build vignettes
      -----------------------------------
* installing *source* package ‘ArrayExpressHTS’ ...
** using staged installation
** libs
using C compiler: ‘gcc (Ubuntu 11.3.0-1ubuntu1~22.04) 11.3.0’
gcc -I"/home/biocbuild/bbs-3.17-bioc/R/include" -DNDEBUG -D_FILE_OFFSET_BITS=64 -I'/home/biocbuild/bbs-3.17-bioc/R/library/Rhtslib/include' -I/usr/local/include    -fpic  -g -O2  -Wall -c addXS.c -o addXS.o
addXS.c: In function ‘addXS’:
addXS.c:42:5: warning: implicit declaration of function ‘Rprintf’; did you mean ‘dprintf’? [-Wimplicit-function-declaration]
   42 |     Rprintf("What?\n");
      |     ^~~~~~~
      |     dprintf
In file included from /usr/include/string.h:535,
                 from addXS.c:7:
In function ‘strncpy’,
    inlined from ‘pastefield’ at addXS.c:17:5:
/usr/include/x86_64-linux-gnu/bits/string_fortified.h:95:10: warning: ‘__builtin_strncpy’ output truncated before terminating nul copying as many bytes from a string as its length [-Wstringop-truncation]
   95 |   return __builtin___strncpy_chk (__dest, __src, __len,
      |          ^~~~~~~~~~~~~~~~~~~~~~~~~~~~~~~~~~~~~~~~~~~~~~
   96 |                                   __glibc_objsize (__dest));
      |                                   ~~~~~~~~~~~~~~~~~~~~~~~~~
addXS.c: In function ‘pastefield’:
addXS.c:14:19: note: length computed here
   14 |     int length1 = strlen(text1);
      |                   ^~~~~~~~~~~~~
In file included from /usr/include/string.h:535,
                 from addXS.c:7:
In function ‘strncpy’,
    inlined from ‘pastefield’ at addXS.c:18:5:
/usr/include/x86_64-linux-gnu/bits/string_fortified.h:95:10: warning: ‘__builtin_strncpy’ output truncated before terminating nul copying as many bytes from a string as its length [-Wstringop-truncation]
   95 |   return __builtin___strncpy_chk (__dest, __src, __len,
      |          ^~~~~~~~~~~~~~~~~~~~~~~~~~~~~~~~~~~~~~~~~~~~~~
   96 |                                   __glibc_objsize (__dest));
      |                                   ~~~~~~~~~~~~~~~~~~~~~~~~~
addXS.c: In function ‘pastefield’:
addXS.c:15:19: note: length computed here
   15 |     int length2 = strlen(text2);
      |                   ^~~~~~~~~~~~~
gcc -I"/home/biocbuild/bbs-3.17-bioc/R/include" -DNDEBUG -D_FILE_OFFSET_BITS=64 -I'/home/biocbuild/bbs-3.17-bioc/R/library/Rhtslib/include' -I/usr/local/include    -fpic  -g -O2  -Wall -c bam_plbuf.c -o bam_plbuf.o
gcc -I"/home/biocbuild/bbs-3.17-bioc/R/include" -DNDEBUG -D_FILE_OFFSET_BITS=64 -I'/home/biocbuild/bbs-3.17-bioc/R/library/Rhtslib/include' -I/usr/local/include    -fpic  -g -O2  -Wall -c fltbam.c -o fltbam.o
fltbam.c:2:10: fatal error: sam.h: No such file or directory
    2 | #include "sam.h"
      |          ^~~~~~~
compilation terminated.
make: *** [/home/biocbuild/bbs-3.17-bioc/R/etc/Makeconf:184: fltbam.o] Error 1
ERROR: compilation failed for package ‘ArrayExpressHTS’
* removing ‘/tmp/RtmprC0wba/Rinst73650b57f5cb/ArrayExpressHTS’
      -----------------------------------
ERROR: package installation failed