Name | Last modified | Size | Description | |
---|---|---|---|---|
Parent Directory | - | |||
buildsrc-out.txt | 18-May-2024 00:36 | 850 | ||
buildsrc-summary.dcf | 18-May-2024 00:36 | 439 | ||
checksrc-out.txt | 18-May-2024 00:36 | 3.2K | ||
checksrc-summary.dcf | 18-May-2024 00:36 | 434 | ||
install-out.txt | 18-May-2024 00:36 | 967 | ||
install-summary.dcf | 18-May-2024 00:36 | 269 | ||