Name | Last modified | Size | Description | |
---|---|---|---|---|
Parent Directory | - | |||
buildbin-summary.dcf | 12-Jun-2024 04:40 | 576 | ||
buildbin-out.txt | 12-Jun-2024 04:40 | 1.1K | ||
checksrc-summary.dcf | 12-Jun-2024 04:40 | 493 | ||
checksrc-out.txt | 12-Jun-2024 04:40 | 5.0K | ||
buildsrc-out.txt | 12-Jun-2024 04:40 | 889 | ||
buildsrc-summary.dcf | 12-Jun-2024 04:40 | 492 | ||
install-summary.dcf | 12-Jun-2024 04:40 | 288 | ||
install-out.txt | 12-Jun-2024 04:40 | 1.0K | ||