Index of /checkResults/devel/bioc-LATEST/AnnotationHubData/raw-results/lconway

[ICO]NameLast modifiedSizeDescription

[DIR]Parent Directory  -  
[TXT]buildbin-out.txt25-Jun-2022 00:07 1.2K 
[   ]buildbin-summary.dcf25-Jun-2022 00:07 590  
[TXT]buildsrc-out.txt25-Jun-2022 00:07 856  
[   ]buildsrc-summary.dcf25-Jun-2022 00:07 455  
[TXT]checksrc-out.txt25-Jun-2022 00:07 4.4K 
[   ]checksrc-summary.dcf25-Jun-2022 00:07 490  
[TXT]install-out.txt25-Jun-2022 00:07 1.0K 
[   ]install-summary.dcf25-Jun-2022 00:07 289