Name | Last modified | Size | Description | |
---|---|---|---|---|
Parent Directory | - | |||
buildbin-out.txt | 28-Jul-2024 00:42 | 1.2K | ||
buildbin-summary.dcf | 28-Jul-2024 00:42 | 590 | ||
buildsrc-out.txt | 28-Jul-2024 00:42 | 856 | ||
buildsrc-summary.dcf | 28-Jul-2024 00:42 | 457 | ||
checksrc-out.txt | 28-Jul-2024 00:42 | 5.1K | ||
checksrc-summary.dcf | 28-Jul-2024 00:42 | 490 | ||
install-out.txt | 28-Jul-2024 00:42 | 1.0K | ||
install-summary.dcf | 28-Jul-2024 00:42 | 289 | ||