Name | Last modified | Size | Description | |
---|---|---|---|---|
Parent Directory | - | |||
install-summary.dcf | 01-Jun-2024 08:28 | 277 | ||
checksrc-summary.dcf | 01-Jun-2024 08:28 | 449 | ||
buildsrc-summary.dcf | 01-Jun-2024 08:28 | 450 | ||
buildsrc-out.txt | 01-Jun-2024 08:28 | 906 | ||
install-out.txt | 01-Jun-2024 08:28 | 971 | ||
checksrc-out.txt | 01-Jun-2024 08:28 | 3.1K | ||