Back to Multiple platform build/check report for BioC 3.15
[A]BCDEFGHIJKLMNOPQRSTUVWXYZ

This page was generated on 2022-01-26 11:07:05 -0500 (Wed, 26 Jan 2022).

HostnameOSArch (*)R versionInstalled pkgs
nebbiolo1Linux (Ubuntu 20.04.4 LTS)x86_64R Under development (unstable) (2022-01-05 r81451) -- "Unsuffered Consequences" 4164
riesling1Windows Server 2019 Standardx64R Under development (unstable) (2021-11-21 r81221) -- "Unsuffered Consequences" 4059
palomino3Windows Server 2022 Datacenterx64R Under development (unstable) (2021-12-21 r81400 ucrt) -- "Unsuffered Consequences" 4001
merida1macOS 10.14.6 Mojavex86_64R Under development (unstable) (2022-01-05 r81451) -- "Unsuffered Consequences" 4118
Click on any hostname to see more info about the system (e.g. compilers)      (*) as reported by 'uname -p', except on Windows and Mac OS X

CHECK results for AnnotationDbi on riesling1


To the developers/maintainers of the AnnotationDbi package:
- Please allow up to 24 hours (and sometimes 48 hours) for your latest push to git@git.bioconductor.org:packages/AnnotationDbi.git to
reflect on this report. See How and When does the builder pull? When will my changes propagate? here for more information.
- Make sure to use the following settings in order to reproduce any error or warning you see on this page.

raw results

Package 57/2075HostnameOS / ArchINSTALLBUILDCHECKBUILD BIN
AnnotationDbi 1.57.1  (landing page)
Bioconductor Package Maintainer
Snapshot Date: 2022-01-25 13:55:17 -0500 (Tue, 25 Jan 2022)
git_url: https://git.bioconductor.org/packages/AnnotationDbi
git_branch: master
git_last_commit: 3b0c2df
git_last_commit_date: 2021-10-28 14:55:10 -0500 (Thu, 28 Oct 2021)
nebbiolo1Linux (Ubuntu 20.04.4 LTS) / x86_64  OK    OK    OK  UNNEEDED, same version is already published
riesling1Windows Server 2019 Standard / x64  OK    OK    OK    OK  
palomino3Windows Server 2022 Datacenter / x64  OK    OK    OK    OK  NO, package depends on 'BiocGenerics' which is not available
merida1macOS 10.14.6 Mojave / x86_64  OK    OK    OK    OK  UNNEEDED, same version is already published

Summary

Package: AnnotationDbi
Version: 1.57.1
Command: D:\biocbuild\bbs-3.15-bioc\R\bin\R.exe CMD check --no-multiarch --install=check:AnnotationDbi.install-out.txt --library=D:\biocbuild\bbs-3.15-bioc\R\library --no-vignettes --timings AnnotationDbi_1.57.1.tar.gz
StartedAt: 2022-01-25 18:19:22 -0500 (Tue, 25 Jan 2022)
EndedAt: 2022-01-25 18:22:37 -0500 (Tue, 25 Jan 2022)
EllapsedTime: 195.8 seconds
RetCode: 0
Status:   OK  
CheckDir: AnnotationDbi.Rcheck
Warnings: 0

Command output

##############################################################################
##############################################################################
###
### Running command:
###
###   D:\biocbuild\bbs-3.15-bioc\R\bin\R.exe CMD check --no-multiarch --install=check:AnnotationDbi.install-out.txt --library=D:\biocbuild\bbs-3.15-bioc\R\library --no-vignettes --timings AnnotationDbi_1.57.1.tar.gz
###
##############################################################################
##############################################################################


* using log directory 'D:/biocbuild/bbs-3.15-bioc/meat/AnnotationDbi.Rcheck'
* using R Under development (unstable) (2021-11-21 r81221)
* using platform: x86_64-w64-mingw32 (64-bit)
* using session charset: ISO8859-1
* using option '--no-vignettes'
* checking for file 'AnnotationDbi/DESCRIPTION' ... OK
* this is package 'AnnotationDbi' version '1.57.1'
* package encoding: UTF-8
* checking package namespace information ... OK
* checking package dependencies ... OK
* checking if this is a source package ... OK
* checking if there is a namespace ... OK
* checking for hidden files and directories ... OK
* checking for portable file names ... OK
* checking whether package 'AnnotationDbi' can be installed ... OK
* checking installed package size ... NOTE
  installed size is  8.9Mb
  sub-directories of 1Mb or more:
    extdata   6.0Mb
* checking package directory ... OK
* checking 'build' directory ... OK
* checking DESCRIPTION meta-information ... OK
* checking top-level files ... OK
* checking for left-over files ... OK
* checking index information ... OK
* checking package subdirectories ... OK
* checking R files for non-ASCII characters ... OK
* checking R files for syntax errors ... OK
* checking whether the package can be loaded ... OK
* checking whether the package can be loaded with stated dependencies ... OK
* checking whether the package can be unloaded cleanly ... OK
* checking whether the namespace can be loaded with stated dependencies ... OK
* checking whether the namespace can be unloaded cleanly ... OK
* checking dependencies in R code ... OK
* checking S3 generic/method consistency ... OK
* checking replacement functions ... OK
* checking foreign function calls ... OK
* checking R code for possible problems ... NOTE
createORGANISMSeeds: no visible global function definition for
  'makeAnnDbMapSeeds'
Undefined global functions or variables:
  makeAnnDbMapSeeds
* checking Rd files ... OK
* checking Rd metadata ... OK
* checking Rd cross-references ... OK
* checking for missing documentation entries ... OK
* checking for code/documentation mismatches ... OK
* checking Rd \usage sections ... OK
* checking Rd contents ... OK
* checking for unstated dependencies in examples ... OK
* checking files in 'vignettes' ... OK
* checking examples ... OK
Examples with CPU (user + system) or elapsed time > 5s
                  user system elapsed
AnnDbPkg-checker 34.67   1.28   37.09
* checking for unstated dependencies in 'tests' ... OK
* checking tests ...
  Running 'AnnotationDbi_unit_tests.R'
 OK
* checking for unstated dependencies in vignettes ... OK
* checking package vignettes in 'inst/doc' ... OK
* checking running R code from vignettes ... SKIPPED
* checking re-building of vignette outputs ... SKIPPED
* checking PDF version of manual ... OK
* DONE

Status: 2 NOTEs
See
  'D:/biocbuild/bbs-3.15-bioc/meat/AnnotationDbi.Rcheck/00check.log'
for details.



Installation output

AnnotationDbi.Rcheck/00install.out

##############################################################################
##############################################################################
###
### Running command:
###
###   D:\biocbuild\bbs-3.15-bioc\R\bin\R.exe CMD INSTALL AnnotationDbi
###
##############################################################################
##############################################################################


* installing to library 'D:/biocbuild/bbs-3.15-bioc/R/library'
* installing *source* package 'AnnotationDbi' ...
** using staged installation
** R
** inst
** byte-compile and prepare package for lazy loading
Creating a new generic function for 'packageName' in package 'AnnotationDbi'
Creating a generic function for 'ls' from package 'base' in package 'AnnotationDbi'
Creating a generic function for 'eapply' from package 'base' in package 'AnnotationDbi'
Creating a generic function for 'exists' from package 'base' in package 'AnnotationDbi'
Creating a generic function for 'sample' from package 'base' in package 'AnnotationDbi'
** help
*** installing help indices
  converting help for package 'AnnotationDbi'
    finding HTML links ... done
    AnnDbObj-class                          html  
    AnnDbPkg-checker                        html  
    AnnotationDb-class                      html  
    AnnotationDbi-internals                 html  
    Bimap-direction                         html  
    Bimap-envirAPI                          html  
    Bimap-keys                              html  
    Bimap-toTable                           html  
    Bimap                                   html  
    BimapFiltering                          html  
    BimapFormatting                         html  
    GOColsAndKeytypes                       html  
    GOFrame                                 html  
    GOTerms-class                           html  
REDIRECT:topic	 Previous alias or file overwritten by alias: D:/biocbuild/bbs-3.15-bioc/R/library/00LOCK-AnnotationDbi/00new/AnnotationDbi/help/Term.html
REDIRECT:topic	 Previous alias or file overwritten by alias: D:/biocbuild/bbs-3.15-bioc/R/library/00LOCK-AnnotationDbi/00new/AnnotationDbi/help/Ontology.html
REDIRECT:topic	 Previous alias or file overwritten by alias: D:/biocbuild/bbs-3.15-bioc/R/library/00LOCK-AnnotationDbi/00new/AnnotationDbi/help/Definition.html
    KEGGFrame                               html  
    colsAndKeytypes                         html  
    createSimpleBimap                       html  
    inpIDMapper                             html  
    makeGOGraph                             html  
    make_eg_to_go_map                       html  
    orgPackageName                          html  
    organismKEGGFrame                       html  
    print.probetable                        html  
    toSQLStringSet                          html  
    unlist2                                 html  
** building package indices
** installing vignettes
** testing if installed package can be loaded from temporary location
** testing if installed package can be loaded from final location
** testing if installed package keeps a record of temporary installation path
* DONE (AnnotationDbi)
Making 'packages.html' ... done

Tests output

AnnotationDbi.Rcheck/tests/AnnotationDbi_unit_tests.Rout


R Under development (unstable) (2021-11-21 r81221) -- "Unsuffered Consequences"
Copyright (C) 2021 The R Foundation for Statistical Computing
Platform: x86_64-w64-mingw32/x64 (64-bit)

R is free software and comes with ABSOLUTELY NO WARRANTY.
You are welcome to redistribute it under certain conditions.
Type 'license()' or 'licence()' for distribution details.

R is a collaborative project with many contributors.
Type 'contributors()' for more information and
'citation()' on how to cite R or R packages in publications.

Type 'demo()' for some demos, 'help()' for on-line help, or
'help.start()' for an HTML browser interface to help.
Type 'q()' to quit R.

> require("AnnotationDbi") || stop("unable to load AnnotationDbi package")
Loading required package: AnnotationDbi
Loading required package: stats4
Loading required package: BiocGenerics

Attaching package: 'BiocGenerics'

The following objects are masked from 'package:stats':

    IQR, mad, sd, var, xtabs

The following objects are masked from 'package:base':

    Filter, Find, Map, Position, Reduce, anyDuplicated, append,
    as.data.frame, basename, cbind, colnames, dirname, do.call,
    duplicated, eval, evalq, get, grep, grepl, intersect, is.unsorted,
    lapply, mapply, match, mget, order, paste, pmax, pmax.int, pmin,
    pmin.int, rank, rbind, rownames, sapply, setdiff, sort, table,
    tapply, union, unique, unsplit, which.max, which.min

Loading required package: Biobase
Welcome to Bioconductor

    Vignettes contain introductory material; view with
    'browseVignettes()'. To cite Bioconductor, see
    'citation("Biobase")', and for packages 'citation("pkgname")'.

Loading required package: IRanges
Loading required package: S4Vectors

Attaching package: 'S4Vectors'

The following objects are masked from 'package:base':

    I, expand.grid, unname


Attaching package: 'IRanges'

The following object is masked from 'package:grDevices':

    windows

[1] TRUE
> 
> AnnotationDbi:::.test()
Loading required package: org.Hs.eg.db

'select()' returned 1:1 mapping between keys and columns
'select()' returned 1:many mapping between keys and columns

'select()' returned 1:1 mapping between keys and columns
'select()' returned 1:many mapping between keys and columns
'select()' returned 1:many mapping between keys and columns
'select()' returned 1:many mapping between keys and columns
'select()' returned 1:many mapping between keys and columns
'select()' returned 1:many mapping between keys and columns
'select()' returned 1:many mapping between keys and columns
'select()' returned 1:many mapping between keys and columns
Loading required package: RSQLite
Loading required package: org.At.tair.db

Loading required package: org.Sc.sgd.db

Loading required package: GO.db

Loading required package: hgu95av2.db
'select()' returned many:many mapping between keys and columns
'select()' returned 1:many mapping between keys and columns
'select()' returned 1:1 mapping between keys and columns
'select()' returned 1:1 mapping between keys and columns
'select()' returned many:1 mapping between keys and columns
'select()' returned 1:1 mapping between keys and columns
'select()' returned many:1 mapping between keys and columns
'select()' returned 1:1 mapping between keys and columns
'select()' returned many:1 mapping between keys and columns
'select()' returned 1:many mapping between keys and columns
'select()' returned 1:many mapping between keys and columns
'select()' returned 1:many mapping between keys and columns
'select()' returned 1:many mapping between keys and columns
'select()' returned 1:1 mapping between keys and columns
'select()' returned 1:1 mapping between keys and columns
'select()' returned 1:1 mapping between keys and columns
'select()' returned 1:1 mapping between keys and columns
'select()' returned 1:1 mapping between keys and columns
'select()' returned 1:1 mapping between keys and columns
'select()' returned 1:many mapping between keys and columns
'select()' returned 1:many mapping between keys and columns
'select()' returned 1:many mapping between keys and columns
'select()' returned 1:many mapping between keys and columns
'select()' returned 1:many mapping between keys and columns
'select()' returned 1:1 mapping between keys and columns
Warning: You have selected the following columns that can have a many to one
  relationship with the primary key: ACCNUM, ALIAS, ENSEMBL,
  ENSEMBLPROT, ENSEMBLTRANS, ENZYME, EVIDENCE, EVIDENCEALL, GO, GOALL,
  IPI, MAP, OMIM, ONTOLOGY, ONTOLOGYALL, PATH, PFAM, PMID, PROSITE,
  REFSEQ, UCSCKG, UNIPROT . Because you have selected more than a few
  such columns there is a risk that this selection may balloon up into
  a very large result as the number of rows returned multiplies
  accordingly. To experience smaller/more manageable results and faster
  retrieval times, you might want to consider selecting these columns
  separately.
'select()' returned 1:many mapping between keys and columns
'select()' returned 1:1 mapping between keys and columns
'select()' returned 1:many mapping between keys and columns
'select()' returned 1:many mapping between keys and columns
'select()' returned 1:many mapping between keys and columns
'select()' returned 1:1 mapping between keys and columns
'select()' returned many:1 mapping between keys and columns
'select()' returned 1:many mapping between keys and columns
'select()' returned many:1 mapping between keys and columns

'select()' returned 1:1 mapping between keys and columns
'select()' returned many:many mapping between keys and columns
'select()' returned 1:1 mapping between keys and columns
'select()' returned 1:1 mapping between keys and columns
'select()' returned 1:many mapping between keys and columns
'select()' returned 1:1 mapping between keys and columns
'select()' returned 1:1 mapping between keys and columns
'select()' returned 1:1 mapping between keys and columns
'select()' returned 1:many mapping between keys and columns
Loading required package: reactome.db
'select()' returned 1:many mapping between keys and columns
'select()' returned 1:1 mapping between keys and columns
'select()' returned 1:1 mapping between keys and columns
'select()' returned 1:many mapping between keys and columns
'select()' returned 1:many mapping between keys and columns


RUNIT TEST PROTOCOL -- Tue Jan 25 18:22:27 2022 
*********************************************** 
Number of test functions: 63 
Number of errors: 0 
Number of failures: 0 

 
1 Test Suite : 
AnnotationDbi RUnit Tests - 63 test functions, 0 errors, 0 failures
Number of test functions: 63 
Number of errors: 0 
Number of failures: 0 
Warning messages:
1: In .local(x, ...) : returned vector has duplicated names
2: In .local(x, ...) : returned vector has duplicated names
3: call dbDisconnect() when finished working with a connection 
4: In .deprecatedColsMessage() :
  Accessing gene location information via 'CHR','CHRLOC','CHRLOCEND' is
  deprecated. Please use a range based accessor like genes(), or select()
  with columns values like TXCHROM and TXSTART on a TxDb or OrganismDb
  object instead.
5: In .deprecatedColsMessage() :
  Accessing gene location information via 'CHR','CHRLOC','CHRLOCEND' is
  deprecated. Please use a range based accessor like genes(), or select()
  with columns values like TXCHROM and TXSTART on a TxDb or OrganismDb
  object instead.
6: In .deprecatedColsMessage() :
  Accessing gene location information via 'CHR','CHRLOC','CHRLOCEND' is
  deprecated. Please use a range based accessor like genes(), or select()
  with columns values like TXCHROM and TXSTART on a TxDb or OrganismDb
  object instead.
> 
> proc.time()
   user  system elapsed 
  35.75    4.43   46.54 

Example timings

AnnotationDbi.Rcheck/AnnotationDbi-Ex.timings

nameusersystemelapsed
AnnDbObj-class0.360.040.40
AnnDbPkg-checker34.67 1.2837.09
AnnotationDb-class1.720.542.25
Bimap-direction2.441.003.43
Bimap-envirAPI0.370.370.75
Bimap-keys0.680.050.72
Bimap-toTable1.860.142.25
Bimap1.340.561.91
BimapFiltering0.110.000.11
BimapFormatting0.230.000.23
GOColsAndKeytypes0.130.000.13
GOFrame1.250.641.89
GOTerms-class000
KEGGFrame0.040.001.76
colsAndKeytypes0.190.000.19
createSimpleBimap0.110.000.11
inpIDMapper000
makeGOGraph0.250.020.27
make_eg_to_go_map0.160.030.18
organismKEGGFrame0.110.003.44
print.probetable0.450.300.75
toSQLStringSet000
unlist20.180.000.19