Name | Last modified | Size | Description | |
---|---|---|---|---|
Parent Directory | - | |||
buildsrc-out.txt | 28-Jul-2024 00:38 | 831 | ||
buildsrc-summary.dcf | 28-Jul-2024 00:38 | 424 | ||
checksrc-out.txt | 28-Jul-2024 00:38 | 3.1K | ||
checksrc-summary.dcf | 28-Jul-2024 00:38 | 415 | ||
install-out.txt | 28-Jul-2024 00:38 | 952 | ||
install-summary.dcf | 28-Jul-2024 00:38 | 260 | ||