Index of /checkResults/devel/bioc-LATEST/AlphaBeta/raw-results

[ICO]NameLast modifiedSizeDescription

[DIR]Parent Directory  -  
[   ]info.dcf06-Dec-2022 01:08 281  
[DIR]merida1/06-Dec-2022 01:08 -  
[DIR]nebbiolo1/06-Dec-2022 01:05 -  
[DIR]palomino3/06-Dec-2022 01:06 -