Index of /checkResults/devel/bioc-LATEST/AllelicImbalance/raw-results/nebbiolo1

[ICO]NameLast modifiedSizeDescription

[DIR]Parent Directory  -  
[   ]install-summary.dcf29-Mar-2024 00:36 277  
[TXT]install-out.txt29-Mar-2024 00:36 1.2K 
[   ]checksrc-summary.dcf29-Mar-2024 00:36 450  
[TXT]checksrc-out.txt29-Mar-2024 00:36 3.8K 
[   ]buildsrc-summary.dcf29-Mar-2024 00:36 445  
[TXT]buildsrc-out.txt29-Mar-2024 00:36 842