Back to Multiple platform build/check report for BioC 3.13
[A]BCDEFGHIJKLMNOPQRSTUVWXYZ

BUILD report for AgiMicroRna on riesling1

This page was generated on 2021-01-24 12:34:54 -0500 (Sun, 24 Jan 2021).

TO THE DEVELOPERS/MAINTAINERS OF THE AgiMicroRna PACKAGE: Please make sure to use the following settings in order to reproduce any error or warning you see on this page.
Package 39/1932HostnameOS / ArchINSTALLBUILDCHECKBUILD BIN
AgiMicroRna 2.41.0
Pedro Lopez-Romero
Snapshot Date: 2021-01-23 14:40:18 -0500 (Sat, 23 Jan 2021)
URL: https://git.bioconductor.org/packages/AgiMicroRna
Branch: master
Last Commit: 46b6c16
Last Changed Date: 2020-10-27 10:36:25 -0500 (Tue, 27 Oct 2020)
malbec2 Linux (Ubuntu 20.04.1 LTS) / x86_64  OK  OK  OK UNNEEDED, same version exists in internal repository
tokay2 Windows Server 2012 R2 Standard / x64  OK  OK  WARNINGS  OK UNNEEDED, same version exists in internal repository
riesling1 Windows Server 2019 Standard / x64  OK [ OK ] WARNINGS  OK 
machv2 macOS 10.14.6 Mojave / x86_64  OK  OK  OK  OK UNNEEDED, same version exists in internal repository

Summary

Package: AgiMicroRna
Version: 2.41.0
Command: chmod a+r AgiMicroRna -R && D:\biocbuild\bbs-3.13-bioc\R\bin\R.exe CMD build --keep-empty-dirs --no-resave-data AgiMicroRna
StartedAt: 2021-01-23 17:24:27 -0500 (Sat, 23 Jan 2021)
EndedAt: 2021-01-23 17:26:26 -0500 (Sat, 23 Jan 2021)
EllapsedTime: 118.2 seconds
RetCode: 0
Status:  OK  
PackageFile: AgiMicroRna_2.41.0.tar.gz
PackageFileSize: 3.007 MiB

Command output

##############################################################################
##############################################################################
###
### Running command:
###
###   chmod a+r AgiMicroRna -R && D:\biocbuild\bbs-3.13-bioc\R\bin\R.exe CMD build --keep-empty-dirs --no-resave-data AgiMicroRna
###
##############################################################################
##############################################################################


* checking for file 'AgiMicroRna/DESCRIPTION' ... OK
* preparing 'AgiMicroRna':
* checking DESCRIPTION meta-information ... OK
* installing the package to build vignettes
* creating vignettes ... OK
* checking for LF line-endings in source and make files and shell scripts
* checking for empty or unneeded directories
* looking to see if a 'data/datalist' file should be added
* building 'AgiMicroRna_2.41.0.tar.gz'