Back to Multiple platform build/check report for BioC 3.15
[A]BCDEFGHIJKLMNOPQRSTUVWXYZ

This page was generated on 2022-01-20 11:06:41 -0500 (Thu, 20 Jan 2022).

HostnameOSArch (*)R versionInstalled pkgs
nebbiolo1Linux (Ubuntu 20.04.4 LTS)x86_64R Under development (unstable) (2022-01-05 r81451) -- "Unsuffered Consequences" 4162
riesling1Windows Server 2019 Standardx64R Under development (unstable) (2021-11-21 r81221) -- "Unsuffered Consequences" 4057
palomino3Windows Server 2022 Datacenterx64R Under development (unstable) (2021-12-21 r81400 ucrt) -- "Unsuffered Consequences" 3999
merida1macOS 10.14.6 Mojavex86_64R Under development (unstable) (2022-01-05 r81451) -- "Unsuffered Consequences" 4116
Click on any hostname to see more info about the system (e.g. compilers)      (*) as reported by 'uname -p', except on Windows and Mac OS X

INSTALL results for AffiXcan on riesling1


To the developers/maintainers of the AffiXcan package:
- Please allow up to 24 hours (and sometimes 48 hours) for your latest push to git@git.bioconductor.org:packages/AffiXcan.git to
reflect on this report. See How and When does the builder pull? When will my changes propagate? here for more information.
- Make sure to use the following settings in order to reproduce any error or warning you see on this page.

raw results

Package 21/2074HostnameOS / ArchINSTALLBUILDCHECKBUILD BIN
AffiXcan 1.13.2  (landing page)
Alessandro Lussana
Snapshot Date: 2022-01-19 13:55:26 -0500 (Wed, 19 Jan 2022)
git_url: https://git.bioconductor.org/packages/AffiXcan
git_branch: master
git_last_commit: 8113262
git_last_commit_date: 2022-01-14 11:24:52 -0500 (Fri, 14 Jan 2022)
nebbiolo1Linux (Ubuntu 20.04.4 LTS) / x86_64  OK    OK    OK  UNNEEDED, same version is already published
riesling1Windows Server 2019 Standard / x64  OK    OK    OK    OK  
palomino3Windows Server 2022 Datacenter / x64  OK    OK    OK    OK  NO, package depends on 'SummarizedExperiment' which is not available
merida1macOS 10.14.6 Mojave / x86_64  OK    OK    OK    OK  UNNEEDED, same version is already published

Summary

Package: AffiXcan
Version: 1.13.2
Command: D:\biocbuild\bbs-3.15-bioc\R\bin\R.exe CMD INSTALL AffiXcan
StartedAt: 2022-01-19 15:49:45 -0500 (Wed, 19 Jan 2022)
EndedAt: 2022-01-19 15:50:42 -0500 (Wed, 19 Jan 2022)
EllapsedTime: 57.2 seconds
RetCode: 0
Status:   OK  

Command output

##############################################################################
##############################################################################
###
### Running command:
###
###   D:\biocbuild\bbs-3.15-bioc\R\bin\R.exe CMD INSTALL AffiXcan
###
##############################################################################
##############################################################################


* installing to library 'D:/biocbuild/bbs-3.15-bioc/R/library'
* installing *source* package 'AffiXcan' ...
** using staged installation
** R
** data
** inst
** byte-compile and prepare package for lazy loading
** help
*** installing help indices
  converting help for package 'AffiXcan'
    finding HTML links ... done
    AffiXcan-package                        html  
    affiXcanBs                              html  
    affiXcanGReX                            html  
    affiXcanImpute                          html  
    affiXcanPca                             html  
    affiXcanPcs                             html  
    affiXcanTrain                           html  
    assoc2list                              html  
    computeBs                               html  
    computeCorrelation                      html  
    computeExpr                             html  
    computePca                              html  
    computePcs                              html  
    computeRSquared                         html  
    exprMatrix                              html  
    overlookRegions                         html  
    regionAssoc                             html  
    subsetKFold                             html  
    trainingCovariates                      html  
** building package indices
** installing vignettes
** testing if installed package can be loaded from temporary location
** testing if installed package can be loaded from final location
** testing if installed package keeps a record of temporary installation path
* DONE (AffiXcan)
Making 'packages.html' ... done