Index of /checkResults/devel/bioc-LATEST/AffiXcan/raw-results/palomino3

[ICO]NameLast modifiedSizeDescription

[DIR]Parent Directory  -  
[TXT]buildbin-out.txt29-Jan-2023 01:06 1.1K 
[   ]buildbin-summary.dcf29-Jan-2023 01:06 521  
[TXT]buildsrc-out.txt29-Jan-2023 01:06 904  
[   ]buildsrc-summary.dcf29-Jan-2023 01:06 457  
[TXT]checksrc-out.txt29-Jan-2023 01:06 3.6K 
[   ]checksrc-summary.dcf29-Jan-2023 01:06 451  
[TXT]install-out.txt29-Jan-2023 01:06 1.0K 
[   ]install-summary.dcf29-Jan-2023 01:06 270