Index of /checkResults/devel/bioc-LATEST/AffiXcan/raw-results/nebbiolo1

[ICO]NameLast modifiedSizeDescription

[DIR]Parent Directory  -  
[TXT]buildsrc-out.txt05-Feb-2023 01:04 873  
[   ]buildsrc-summary.dcf05-Feb-2023 01:04 420  
[TXT]checksrc-out.txt05-Feb-2023 01:04 3.5K 
[   ]checksrc-summary.dcf05-Feb-2023 01:04 413  
[TXT]install-out.txt05-Feb-2023 01:04 958  
[   ]install-summary.dcf05-Feb-2023 01:04 261