Index of /checkResults/devel/bioc-LATEST/AffiXcan/raw-results

[ICO]NameLast modifiedSizeDescription

[DIR]Parent Directory  -  
[DIR]nebbiolo1/05-Feb-2023 01:04 -  
[DIR]palomino3/05-Feb-2023 01:05 -  
[   ]info.dcf05-Feb-2023 01:05 286  
[DIR]merida1/05-Feb-2023 01:05 -