Back to Multiple platform build/check report for BioC 3.14
[A]BCDEFGHIJKLMNOPQRSTUVWXYZ

This page was generated on 2021-10-22 12:04:18 -0400 (Fri, 22 Oct 2021).

INSTALL results for AWFisher on riesling1

To the developers/maintainers of the AWFisher package:
- Please allow up to 24 hours (and sometimes 48 hours) for your latest push to git@git.bioconductor.org:packages/AWFisher.git to
reflect on this report. See How and When does the builder pull? When will my changes propagate? here for more information.
- Make sure to use the following settings in order to reproduce any error or warning you see on this page.

raw results

Package 101/2075HostnameOS / ArchINSTALLBUILDCHECKBUILD BIN
AWFisher 1.7.0  (landing page)
Zhiguang Huo
Snapshot Date: 2021-10-21 14:50:08 -0400 (Thu, 21 Oct 2021)
git_url: https://git.bioconductor.org/packages/AWFisher
git_branch: master
git_last_commit: 676f740
git_last_commit_date: 2021-05-19 12:44:47 -0400 (Wed, 19 May 2021)
nebbiolo2Linux (Ubuntu 20.04.2 LTS) / x86_64  OK    OK    OK  UNNEEDED, same version is already published
riesling1Windows Server 2019 Standard / x64  OK    OK    OK    OK  UNNEEDED, same version is already published
merida1macOS 10.14.6 Mojave / x86_64  OK    OK    OK    OK  UNNEEDED, same version is already published

Summary

Package: AWFisher
Version: 1.7.0
Command: C:\cygwin\bin\curl.exe -O http://155.52.207.166/BBS/3.14/bioc/src/contrib/AWFisher_1.7.0.tar.gz && rm -rf AWFisher.buildbin-libdir && mkdir AWFisher.buildbin-libdir && D:\biocbuild\bbs-3.14-bioc\R\bin\R.exe CMD INSTALL --merge-multiarch --build --library=AWFisher.buildbin-libdir AWFisher_1.7.0.tar.gz && D:\biocbuild\bbs-3.14-bioc\R\bin\R.exe CMD INSTALL AWFisher_1.7.0.zip && rm AWFisher_1.7.0.tar.gz AWFisher_1.7.0.zip
StartedAt: 2021-10-21 16:40:40 -0400 (Thu, 21 Oct 2021)
EndedAt: 2021-10-21 16:43:51 -0400 (Thu, 21 Oct 2021)
EllapsedTime: 191.3 seconds
RetCode: 0
Status:   OK  

Command output

##############################################################################
##############################################################################
###
### Running command:
###
###   C:\cygwin\bin\curl.exe -O http://155.52.207.166/BBS/3.14/bioc/src/contrib/AWFisher_1.7.0.tar.gz && rm -rf AWFisher.buildbin-libdir && mkdir AWFisher.buildbin-libdir && D:\biocbuild\bbs-3.14-bioc\R\bin\R.exe CMD INSTALL --merge-multiarch --build --library=AWFisher.buildbin-libdir AWFisher_1.7.0.tar.gz && D:\biocbuild\bbs-3.14-bioc\R\bin\R.exe CMD INSTALL AWFisher_1.7.0.zip && rm AWFisher_1.7.0.tar.gz AWFisher_1.7.0.zip
###
##############################################################################
##############################################################################


  % Total    % Received % Xferd  Average Speed   Time    Time     Time  Current
                                 Dload  Upload   Total   Spent    Left  Speed

  0     0    0     0    0     0      0      0 --:--:-- --:--:-- --:--:--     0
100 1797k  100 1797k    0     0  3691k      0 --:--:-- --:--:-- --:--:-- 3691k

install for i386

* installing *source* package 'AWFisher' ...
** using staged installation
** libs
"C:/rtools40/mingw32/bin/"g++ -std=gnu++11  -I"D:/biocbuild/bbs-3.14-bioc/R/include" -DNDEBUG     -I"C:/extsoft/include"     -O2 -Wall  -mfpmath=sse -msse2 -mstackrealign  -c AWFisher.cpp -o AWFisher.o
C:/rtools40/mingw32/bin/g++ -std=gnu++11 -shared -s -static-libgcc -o AWFisher.dll tmp.def AWFisher.o -LC:/extsoft/lib/i386 -LC:/extsoft/lib -LD:/biocbuild/bbs-3.14-bioc/R/bin/i386 -lR
installing to D:/biocbuild/bbs-3.14-bioc/meat/AWFisher.buildbin-libdir/00LOCK-AWFisher/00new/AWFisher/libs/i386
** R
** data
** inst
** byte-compile and prepare package for lazy loading
** help
*** installing help indices
  converting help for package 'AWFisher'
    finding HTML links ... done
    AWFisher_pvalue                         html  
    biomarkerCategorization                 html  
    data_mouseMetabolism                    html  
    function_edgeR                          html  
    function_limma                          html  
    variabilityIndex                        html  
** building package indices
** installing vignettes
** testing if installed package can be loaded from temporary location
** testing if installed package can be loaded from final location
** testing if installed package keeps a record of temporary installation path

install for x64

* installing *source* package 'AWFisher' ...
** libs
"C:/rtools40/mingw64/bin/"g++ -std=gnu++11  -I"D:/biocbuild/bbs-3.14-bioc/R/include" -DNDEBUG     -I"C:/extsoft/include"     -O2 -Wall  -mfpmath=sse -msse2 -mstackrealign  -c AWFisher.cpp -o AWFisher.o
C:/rtools40/mingw64/bin/g++ -std=gnu++11 -shared -s -static-libgcc -o AWFisher.dll tmp.def AWFisher.o -LC:/extsoft/lib/x64 -LC:/extsoft/lib -LD:/biocbuild/bbs-3.14-bioc/R/bin/x64 -lR
installing to D:/biocbuild/bbs-3.14-bioc/meat/AWFisher.buildbin-libdir/AWFisher/libs/x64
** testing if installed package can be loaded
* MD5 sums
packaged installation of 'AWFisher' as AWFisher_1.7.0.zip
* DONE (AWFisher)
* installing to library 'D:/biocbuild/bbs-3.14-bioc/R/library'
package 'AWFisher' successfully unpacked and MD5 sums checked