Index of /checkResults/devel/bioc-LATEST/ATACseqQC/raw-results/nebbiolo1

[ICO]NameLast modifiedSizeDescription

[DIR]Parent Directory  -  
[TXT]buildsrc-out.txt22-Jan-2022 01:05 1.1K 
[   ]buildsrc-summary.dcf22-Jan-2022 01:05 424  
[TXT]checksrc-out.txt22-Jan-2022 01:05 3.6K 
[   ]checksrc-summary.dcf22-Jan-2022 01:05 432  
[TXT]install-out.txt22-Jan-2022 01:05 953  
[   ]install-summary.dcf22-Jan-2022 01:05 263