Index of /checkResults/devel/bioc-LATEST/ATACseqQC/raw-results

[ICO]NameLast modifiedSizeDescription

[DIR]Parent Directory  -  
[   ]info.dcf02-Dec-2021 05:03 268  
[DIR]nebbiolo1/02-Dec-2021 05:03 -