Index of /checkResults/devel/bioc-LATEST/ASpli/raw-results
Name
Last modified
Size
Description
Parent Directory
-
info.dcf
14-Aug-2022 00:07
267
kjohnson/
12-Jul-2022 00:06
-
lconway/
14-Aug-2022 00:07
-
nebbiolo2/
14-Aug-2022 00:04
-
palomino4/
14-Aug-2022 00:06
-