Back to Multiple platform build/check report for BioC 3.15
[A]BCDEFGHIJKLMNOPQRSTUVWXYZ

This page was generated on 2022-01-18 11:06:45 -0500 (Tue, 18 Jan 2022).

HostnameOSArch (*)R versionInstalled pkgs
nebbiolo1Linux (Ubuntu 20.04.4 LTS)x86_64R Under development (unstable) (2022-01-05 r81451) -- "Unsuffered Consequences" 4161
riesling1Windows Server 2019 Standardx64R Under development (unstable) (2021-11-21 r81221) -- "Unsuffered Consequences" 4056
palomino3Windows Server 2022 Datacenterx64R Under development (unstable) (2021-12-21 r81400 ucrt) -- "Unsuffered Consequences" 3998
merida1macOS 10.14.6 Mojavex86_64R Under development (unstable) (2022-01-05 r81451) -- "Unsuffered Consequences" 4115
Click on any hostname to see more info about the system (e.g. compilers)      (*) as reported by 'uname -p', except on Windows and Mac OS X

BUILD results for ASpediaFI on riesling1


To the developers/maintainers of the ASpediaFI package:
- Please allow up to 24 hours (and sometimes 48 hours) for your latest push to git@git.bioconductor.org:packages/ASpediaFI.git to
reflect on this report. See How and When does the builder pull? When will my changes propagate? here for more information.
- Make sure to use the following settings in order to reproduce any error or warning you see on this page.

raw results

Package 86/2074HostnameOS / ArchINSTALLBUILDCHECKBUILD BIN
ASpediaFI 1.9.1  (landing page)
Doyeong Yu
Snapshot Date: 2022-01-17 13:55:17 -0500 (Mon, 17 Jan 2022)
git_url: https://git.bioconductor.org/packages/ASpediaFI
git_branch: master
git_last_commit: 53491f1
git_last_commit_date: 2021-11-18 16:35:17 -0500 (Thu, 18 Nov 2021)
nebbiolo1Linux (Ubuntu 20.04.4 LTS) / x86_64  OK    OK    OK  UNNEEDED, same version is already published
riesling1Windows Server 2019 Standard / x64  OK    OK    OK    OK  
palomino3Windows Server 2022 Datacenter / x64  OK    OK    OK    OK  NO, package depends on 'SummarizedExperiment' which is not available
merida1macOS 10.14.6 Mojave / x86_64  OK    OK    OK    OK  NO, package depends on 'fgsea' which is not available

Summary

Package: ASpediaFI
Version: 1.9.1
Command: chmod a+r ASpediaFI -R && D:\biocbuild\bbs-3.15-bioc\R\bin\R.exe CMD build --keep-empty-dirs --no-resave-data ASpediaFI
StartedAt: 2022-01-17 16:20:17 -0500 (Mon, 17 Jan 2022)
EndedAt: 2022-01-17 16:27:53 -0500 (Mon, 17 Jan 2022)
EllapsedTime: 456.1 seconds
RetCode: 0
Status:   OK  
PackageFile: ASpediaFI_1.9.1.tar.gz
PackageFileSize: 2.671 MiB

Command output

##############################################################################
##############################################################################
###
### Running command:
###
###   chmod a+r ASpediaFI -R && D:\biocbuild\bbs-3.15-bioc\R\bin\R.exe CMD build --keep-empty-dirs --no-resave-data ASpediaFI
###
##############################################################################
##############################################################################


* checking for file 'ASpediaFI/DESCRIPTION' ... OK
* preparing 'ASpediaFI':
* checking DESCRIPTION meta-information ... OK
* installing the package to build vignettes
* creating vignettes ... OK
* checking for LF line-endings in source and make files and shell scripts
* checking for empty or unneeded directories
* looking to see if a 'data/datalist' file should be added
* building 'ASpediaFI_1.9.1.tar.gz'