Back to Multiple platform build/check report for BioC 3.16
[A]BCDEFGHIJKLMNOPQRSTUVWXYZ

This page was generated on 2022-06-24 11:06:05 -0400 (Fri, 24 Jun 2022).

HostnameOSArch (*)R versionInstalled pkgs
nebbiolo2Linux (Ubuntu 20.04.4 LTS)x86_644.2.0 Patched (2022-06-02 r82447) -- "Vigorous Calisthenics" 4331
palomino4Windows Server 2022 Datacenterx644.2.0 Patched (2022-06-02 r82447 ucrt) -- "Vigorous Calisthenics" 4136
lconwaymacOS 12.2.1 Montereyx86_644.2.0 Patched (2022-05-29 r82424) -- "Vigorous Calisthenics" 4147
Click on any hostname to see more info about the system (e.g. compilers)      (*) as reported by 'uname -p', except on Windows and Mac OS X

BUILD results for ASpediaFI on palomino4


To the developers/maintainers of the ASpediaFI package:
- Please allow up to 24 hours (and sometimes 48 hours) for your latest push to git@git.bioconductor.org:packages/ASpediaFI.git to
reflect on this report. See How and When does the builder pull? When will my changes propagate? for more information.
- Make sure to use the following settings in order to reproduce any error or warning you see on this page.

raw results

Package 86/2118HostnameOS / ArchINSTALLBUILDCHECKBUILD BIN
ASpediaFI 1.11.0  (landing page)
Doyeong Yu
Snapshot Date: 2022-06-23 14:00:04 -0400 (Thu, 23 Jun 2022)
git_url: https://git.bioconductor.org/packages/ASpediaFI
git_branch: master
git_last_commit: 808c177
git_last_commit_date: 2022-04-26 12:00:28 -0400 (Tue, 26 Apr 2022)
nebbiolo2Linux (Ubuntu 20.04.4 LTS) / x86_64  ERROR    ERROR  skipped
palomino4Windows Server 2022 Datacenter / x64  ERROR    ERROR  skippedskipped
lconwaymacOS 12.2.1 Monterey / x86_64  ERROR    ERROR  skippedskipped

Summary

Package: ASpediaFI
Version: 1.11.0
Command: chmod a+r ASpediaFI -R && F:\biocbuild\bbs-3.16-bioc\R\bin\R.exe CMD build --keep-empty-dirs --no-resave-data ASpediaFI
StartedAt: 2022-06-23 17:02:26 -0400 (Thu, 23 Jun 2022)
EndedAt: 2022-06-23 17:02:28 -0400 (Thu, 23 Jun 2022)
EllapsedTime: 2.0 seconds
RetCode: 1
Status:   ERROR  
PackageFile: ASpediaFI_1.11.0.tar.gz
PackageFileSize: 2.031 MiB

Command output

##############################################################################
##############################################################################
###
### Running command:
###
###   chmod a+r ASpediaFI -R && F:\biocbuild\bbs-3.16-bioc\R\bin\R.exe CMD build --keep-empty-dirs --no-resave-data ASpediaFI
###
##############################################################################
##############################################################################


* checking for file 'ASpediaFI/DESCRIPTION' ... OK
* preparing 'ASpediaFI':
* checking DESCRIPTION meta-information ... OK
* installing the package to build vignettes
      -----------------------------------
ERROR: dependency 'mGSZ' is not available for package 'ASpediaFI'
* removing 'F:/biocbuild/bbs-3.16-bioc/tmpdir/RtmpWgP3mh/Rinst3b707d1216f8/ASpediaFI'
      -----------------------------------
ERROR: package installation failed