Back to Multiple platform build/check report for BioC 3.17
[A]BCDEFGHIJKLMNOPQRSTUVWXYZ

This page was generated on 2022-12-07 11:05:16 -0500 (Wed, 07 Dec 2022).

HostnameOSArch (*)R versionInstalled pkgs
nebbiolo1Linux (Ubuntu 22.04.1 LTS)x86_64R Under development (unstable) (2022-11-30 r83393) -- "Unsuffered Consequences" 4423
palomino3Windows Server 2022 Datacenterx64R Under development (unstable) (2022-11-30 r83393 ucrt) -- "Unsuffered Consequences" 4193
merida1macOS 10.14.6 Mojavex86_64R Under development (unstable) (2022-11-30 r83393) -- "Unsuffered Consequences" 4236
Click on any hostname to see more info about the system (e.g. compilers)      (*) as reported by 'uname -p', except on Windows and Mac OS X

INSTALL results for ASpediaFI on nebbiolo1


To the developers/maintainers of the ASpediaFI package:
- Please allow up to 24 hours (and sometimes 48 hours) for your latest push to git@git.bioconductor.org:packages/ASpediaFI.git to
reflect on this report. See How and When does the builder pull? When will my changes propagate? for more information.
- Make sure to use the following settings in order to reproduce any error or warning you see on this page.

raw results

Package 85/2155HostnameOS / ArchINSTALLBUILDCHECKBUILD BIN
ASpediaFI 1.13.0  (landing page)
Doyeong Yu
Snapshot Date: 2022-12-06 14:00:17 -0500 (Tue, 06 Dec 2022)
git_url: https://git.bioconductor.org/packages/ASpediaFI
git_branch: master
git_last_commit: 1470579
git_last_commit_date: 2022-11-01 11:20:47 -0500 (Tue, 01 Nov 2022)
nebbiolo1Linux (Ubuntu 22.04.1 LTS) / x86_64  ERROR    ERROR  skipped
palomino3Windows Server 2022 Datacenter / x64  ERROR    ERROR  skippedskipped
merida1macOS 10.14.6 Mojave / x86_64  ERROR    ERROR  skippedskipped

Summary

Package: ASpediaFI
Version: 1.13.0
Command: /home/biocbuild/bbs-3.17-bioc/R/bin/R CMD INSTALL ASpediaFI
StartedAt: 2022-12-06 16:00:00 -0500 (Tue, 06 Dec 2022)
EndedAt: 2022-12-06 16:00:00 -0500 (Tue, 06 Dec 2022)
EllapsedTime: 0.2 seconds
RetCode: 1
Status:   ERROR  

Command output

##############################################################################
##############################################################################
###
### Running command:
###
###   /home/biocbuild/bbs-3.17-bioc/R/bin/R CMD INSTALL ASpediaFI
###
##############################################################################
##############################################################################


* installing to library ‘/home/biocbuild/bbs-3.17-bioc/R/library’
ERROR: dependency ‘mGSZ’ is not available for package ‘ASpediaFI’
* removing ‘/home/biocbuild/bbs-3.17-bioc/R/library/ASpediaFI’