Back to Multiple platform build/check report for BioC 3.15
[A]BCDEFGHIJKLMNOPQRSTUVWXYZ

This page was generated on 2021-11-25 14:04:48 -0500 (Thu, 25 Nov 2021).

BUILD BIN results for ASSIGN on riesling1

To the developers/maintainers of the ASSIGN package:
- Please allow up to 24 hours (and sometimes 48 hours) for your latest push to git@git.bioconductor.org:packages/ASSIGN.git to
reflect on this report. See How and When does the builder pull? When will my changes propagate? here for more information.
- Make sure to use the following settings in order to reproduce any error or warning you see on this page.

raw results

Package 90/2068HostnameOS / ArchINSTALLBUILDCHECKBUILD BIN
ASSIGN 1.31.0  (landing page)
Ying Shen , W. Evan Johnson
Snapshot Date: 2021-11-24 14:50:13 -0500 (Wed, 24 Nov 2021)
git_url: https://git.bioconductor.org/packages/ASSIGN
git_branch: master
git_last_commit: f1c4527
git_last_commit_date: 2021-10-26 12:12:42 -0500 (Tue, 26 Oct 2021)
nebbiolo1Linux (Ubuntu 20.04.3 LTS) / x86_64  OK    OK    OK  UNNEEDED, same version is already published
riesling1Windows Server 2019 Standard / x64  OK    OK    OK    OK  
merida1macOS 10.14.6 Mojave / x86_64  OK    OK    OK    OK  UNNEEDED, same version is already published

Summary

Package: ASSIGN
Version: 1.31.0
Command: rm -rf ASSIGN.buildbin-libdir && mkdir ASSIGN.buildbin-libdir && D:\biocbuild\bbs-3.15-bioc\R\bin\R.exe CMD INSTALL --merge-multiarch --build --library=ASSIGN.buildbin-libdir ASSIGN_1.31.0.tar.gz
StartedAt: 2021-11-25 04:59:31 -0500 (Thu, 25 Nov 2021)
EndedAt: 2021-11-25 05:04:04 -0500 (Thu, 25 Nov 2021)
EllapsedTime: 272.9 seconds
RetCode: 0
Status:   OK  
PackageFile: ASSIGN_1.31.0.zip
PackageFileSize: 1.694 MiB

Command output

##############################################################################
##############################################################################
###
### Running command:
###
###   rm -rf ASSIGN.buildbin-libdir && mkdir ASSIGN.buildbin-libdir && D:\biocbuild\bbs-3.15-bioc\R\bin\R.exe CMD INSTALL --merge-multiarch --build --library=ASSIGN.buildbin-libdir ASSIGN_1.31.0.tar.gz
###
##############################################################################
##############################################################################


only one architecture so ignoring '--merge-multiarch'
* installing *source* package 'ASSIGN' ...
** using staged installation
** R
** data
*** moving datasets to lazyload DB
** inst
** byte-compile and prepare package for lazy loading
** help
*** installing help indices
  converting help for package 'ASSIGN'
    finding HTML links ... done
    ComBat.step2                            html  
    assign.convergence                      html  
    assign.cv.output                        html  
    assign.mcmc                             html  
    assign.output                           html  
    assign.preprocess                       html  
    assign.summary                          html  
    assign.wrapper                          html  
    excludegenes                            html  
    gather_assign_results                   html  
    geneList1                               html  
    gfrn_geneList                           html  
    merge_drop                              html  
    optimizeGFRN                            html  
    pcaplot                                 html  
    runassignGFRN                           html  
    testData1                               html  
    trainingData1                           html  
** building package indices
** installing vignettes
** testing if installed package can be loaded from temporary location
** testing if installed package can be loaded from final location
** testing if installed package keeps a record of temporary installation path
* MD5 sums
packaged installation of 'ASSIGN' as ASSIGN_1.31.0.zip
* DONE (ASSIGN)