Name | Last modified | Size | Description | |
---|---|---|---|---|
Parent Directory | - | |||
install-summary.dcf | 16-Jun-2024 01:33 | 257 | ||
checksrc-summary.dcf | 16-Jun-2024 01:33 | 410 | ||
buildsrc-summary.dcf | 16-Jun-2024 01:33 | 420 | ||
buildsrc-out.txt | 16-Jun-2024 01:33 | 889 | ||
install-out.txt | 16-Jun-2024 01:33 | 957 | ||
checksrc-out.txt | 16-Jun-2024 01:33 | 3.5K | ||