Name | Last modified | Size | Description | |
---|---|---|---|---|
Parent Directory | - | |||
checksrc-out.txt | 12-Jul-2024 01:00 | 5.6K | ||
buildbin-out.txt | 12-Jul-2024 01:00 | 3.7K | ||
install-out.txt | 12-Jul-2024 01:00 | 1.7K | ||
buildsrc-out.txt | 12-Jul-2024 01:00 | 834 | ||
buildbin-summary.dcf | 12-Jul-2024 01:00 | 512 | ||
checksrc-summary.dcf | 12-Jul-2024 01:00 | 437 | ||
buildsrc-summary.dcf | 12-Jul-2024 01:00 | 418 | ||
install-summary.dcf | 12-Jul-2024 01:00 | 263 | ||