Name | Last modified | Size | Description | |
---|---|---|---|---|
Parent Directory | - | |||
checksrc-summary.dcf | 09-Jul-2024 00:44 | 398 | ||
checksrc-out.txt | 09-Jul-2024 00:44 | 5.5K | ||
buildsrc-summary.dcf | 09-Jul-2024 00:44 | 396 | ||
buildsrc-out.txt | 09-Jul-2024 00:44 | 812 | ||
install-summary.dcf | 07-Jul-2024 00:44 | 241 | ||
install-out.txt | 07-Jul-2024 00:44 | 1.4K | ||