Index of /checkResults/devel/bioc-LATEST/APL/raw-results/kjohnson3
Name
Last modified
Size
Description
Parent Directory
-
install-summary.dcf
22-Jun-2024 02:22
260
install-out.txt
22-Jun-2024 02:22
1.0K
buildsrc-out.txt
22-Jun-2024 02:22
1.0K
buildsrc-summary.dcf
22-Jun-2024 02:22
334