Name | Last modified | Size | Description | |
---|---|---|---|---|
Parent Directory | - | |||
buildbin-out.txt | 23-Mar-2024 00:38 | 1.1K | ||
buildbin-summary.dcf | 23-Mar-2024 00:38 | 527 | ||
buildsrc-out.txt | 28-Mar-2024 00:38 | 57K | ||
buildsrc-summary.dcf | 28-Mar-2024 00:38 | 343 | ||
checksrc-out.txt | 23-Mar-2024 00:38 | 3.6K | ||
checksrc-summary.dcf | 23-Mar-2024 00:38 | 442 | ||
install-out.txt | 28-Mar-2024 00:38 | 1.0K | ||
install-summary.dcf | 28-Mar-2024 00:38 | 268 | ||