Back to Multiple platform build/check report for BioC 3.17:   simplified   long
[A]BCDEFGHIJKLMNOPQRSTUVWXYZ

This page was generated on 2023-03-23 11:05:40 -0400 (Thu, 23 Mar 2023).

HostnameOSArch (*)R versionInstalled pkgs
nebbiolo1Linux (Ubuntu 22.04.1 LTS)x86_64R Under development (unstable) (2023-03-16 r83996) -- "Unsuffered Consequences" 4536
palomino3Windows Server 2022 Datacenterx64R Under development (unstable) (2023-03-15 r83984 ucrt) -- "Unsuffered Consequences" 4298
merida1macOS 10.14.6 Mojavex86_64R Under development (unstable) (2023-03-16 r83985) -- "Unsuffered Consequences" 4290
Click on any hostname to see more info about the system (e.g. compilers)      (*) as reported by 'uname -p', except on Windows and Mac OS X

BUILD results for ANCOMBC on palomino3


To the developers/maintainers of the ANCOMBC package:
- Please allow up to 24 hours (and sometimes 48 hours) for your latest push to git@git.bioconductor.org:packages/ANCOMBC.git to
reflect on this report. See How and When does the builder pull? When will my changes propagate? for more information.
- Make sure to use the following settings in order to reproduce any error or warning you see on this page.

raw results

Package 60/2189HostnameOS / ArchINSTALLBUILDCHECKBUILD BIN
ANCOMBC 2.1.2  (landing page)
Huang Lin
Snapshot Date: 2023-03-22 14:00:17 -0400 (Wed, 22 Mar 2023)
git_url: https://git.bioconductor.org/packages/ANCOMBC
git_branch: devel
git_last_commit: 57657ff
git_last_commit_date: 2022-12-17 17:21:12 -0400 (Sat, 17 Dec 2022)
nebbiolo1Linux (Ubuntu 22.04.1 LTS) / x86_64  OK    OK    OK  UNNEEDED, same version is already published
palomino3Windows Server 2022 Datacenter / x64  OK    OK    OK    OK  UNNEEDED, same version is already published
merida1macOS 10.14.6 Mojave / x86_64  OK    TIMEOUT  skippedskipped

Summary

Package: ANCOMBC
Version: 2.1.2
Command: chmod a+r ANCOMBC -R && F:\biocbuild\bbs-3.17-bioc\R\bin\R.exe CMD build --keep-empty-dirs --no-resave-data ANCOMBC
StartedAt: 2023-03-22 18:05:14 -0400 (Wed, 22 Mar 2023)
EndedAt: 2023-03-22 18:27:50 -0400 (Wed, 22 Mar 2023)
EllapsedTime: 1356.2 seconds
RetCode: 0
Status:   OK  
PackageFile: ANCOMBC_2.1.2.tar.gz
PackageFileSize: 951.6 KiB

Command output

##############################################################################
##############################################################################
###
### Running command:
###
###   chmod a+r ANCOMBC -R && F:\biocbuild\bbs-3.17-bioc\R\bin\R.exe CMD build --keep-empty-dirs --no-resave-data ANCOMBC
###
##############################################################################
##############################################################################


* checking for file 'ANCOMBC/DESCRIPTION' ... OK
* preparing 'ANCOMBC':
* checking DESCRIPTION meta-information ... OK
* installing the package to process help pages
Loading required namespace: ANCOMBC
* saving partial Rd database
* creating vignettes ... OK
* checking for LF line-endings in source and make files and shell scripts
* checking for empty or unneeded directories
* looking to see if a 'data/datalist' file should be added
* building 'ANCOMBC_2.1.2.tar.gz'