Back to Multiple platform build/check report for BioC 3.17:   simplified   long
[A]BCDEFGHIJKLMNOPQRSTUVWXYZ

This page was generated on 2023-04-01 11:05:09 -0400 (Sat, 01 Apr 2023).

HostnameOSArch (*)R versionInstalled pkgs
nebbiolo1Linux (Ubuntu 22.04.1 LTS)x86_64R Under development (unstable) (2023-03-16 r83996) -- "Unsuffered Consequences" 4551
palomino3Windows Server 2022 Datacenterx64R Under development (unstable) (2023-03-15 r83984 ucrt) -- "Unsuffered Consequences" 4312
merida1macOS 10.14.6 Mojavex86_64R Under development (unstable) (2023-03-16 r83985) -- "Unsuffered Consequences" 4309
Click on any hostname to see more info about the system (e.g. compilers)      (*) as reported by 'uname -p', except on Windows and Mac OS X

BUILD BIN results for ANCOMBC on palomino3


To the developers/maintainers of the ANCOMBC package:
- Allow up to 24 hours (and sometimes 48 hours) for your latest push to git@git.bioconductor.org:packages/ANCOMBC.git to reflect on this report. See Troubleshooting Build Report for more information.

- Use the following Renviron settings to reproduce errors and warnings.

Note: If "R CMD check" recently failed on the Linux builder over a missing dependency, add the missing dependency to "Suggests" in your DESCRIPTION file. See the Renviron.bioc for details.

raw results

Package 61/2199HostnameOS / ArchINSTALLBUILDCHECKBUILD BIN
ANCOMBC 2.1.3  (landing page)
Huang Lin
Snapshot Date: 2023-03-31 14:00:12 -0400 (Fri, 31 Mar 2023)
git_url: https://git.bioconductor.org/packages/ANCOMBC
git_branch: devel
git_last_commit: 891f10f
git_last_commit_date: 2023-03-25 09:32:00 -0400 (Sat, 25 Mar 2023)
nebbiolo1Linux (Ubuntu 22.04.1 LTS) / x86_64  OK    OK    ERROR  
palomino3Windows Server 2022 Datacenter / x64  OK    OK    OK    OK  UNNEEDED, same version is already published
merida1macOS 10.14.6 Mojave / x86_64  OK    OK    OK    OK  NO, package depends on 'mia' which is not available

Summary

Package: ANCOMBC
Version: 2.1.3
Command: rm -rf ANCOMBC.buildbin-libdir && mkdir ANCOMBC.buildbin-libdir && F:\biocbuild\bbs-3.17-bioc\R\bin\R.exe CMD INSTALL --build --library=ANCOMBC.buildbin-libdir ANCOMBC_2.1.3.tar.gz
StartedAt: 2023-04-01 07:53:49 -0400 (Sat, 01 Apr 2023)
EndedAt: 2023-04-01 07:54:46 -0400 (Sat, 01 Apr 2023)
EllapsedTime: 56.8 seconds
RetCode: 0
Status:   OK  
PackageFile: ANCOMBC_2.1.3.zip
PackageFileSize: 902.3 KiB

Command output

##############################################################################
##############################################################################
###
### Running command:
###
###   rm -rf ANCOMBC.buildbin-libdir && mkdir ANCOMBC.buildbin-libdir && F:\biocbuild\bbs-3.17-bioc\R\bin\R.exe CMD INSTALL --build --library=ANCOMBC.buildbin-libdir ANCOMBC_2.1.3.tar.gz
###
##############################################################################
##############################################################################


* installing *source* package 'ANCOMBC' ...
** using staged installation
** R
** data
** inst
** byte-compile and prepare package for lazy loading
** help
*** installing help indices
** building package indices
** installing vignettes
** testing if installed package can be loaded from temporary location
** testing if installed package can be loaded from final location
** testing if installed package keeps a record of temporary installation path
* MD5 sums
packaged installation of 'ANCOMBC' as ANCOMBC_2.1.3.zip
* DONE (ANCOMBC)