Back to Multiple platform build/check report for BioC 3.14
[A]BCDEFGHIJKLMNOPQRSTUVWXYZ

This page was generated on 2021-10-23 14:06:18 -0400 (Sat, 23 Oct 2021).

INSTALL results for AIMS on riesling1

To the developers/maintainers of the AIMS package:
- Please allow up to 24 hours (and sometimes 48 hours) for your latest push to git@git.bioconductor.org:packages/AIMS.git to
reflect on this report. See How and When does the builder pull? When will my changes propagate? here for more information.
- Make sure to use the following settings in order to reproduce any error or warning you see on this page.

raw results

Package 38/2083HostnameOS / ArchINSTALLBUILDCHECKBUILD BIN
AIMS 1.25.0  (landing page)
Eric R Paquet
Snapshot Date: 2021-10-22 14:50:11 -0400 (Fri, 22 Oct 2021)
git_url: https://git.bioconductor.org/packages/AIMS
git_branch: master
git_last_commit: d1e829c
git_last_commit_date: 2021-05-19 12:09:52 -0400 (Wed, 19 May 2021)
nebbiolo2Linux (Ubuntu 20.04.2 LTS) / x86_64  OK    OK    OK  UNNEEDED, same version is already published
riesling1Windows Server 2019 Standard / x64  OK    OK    OK    OK  UNNEEDED, same version is already published
merida1macOS 10.14.6 Mojave / x86_64  OK    OK    OK    OK  UNNEEDED, same version is already published

Summary

Package: AIMS
Version: 1.25.0
Command: C:\cygwin\bin\curl.exe -O http://155.52.207.166/BBS/3.14/bioc/src/contrib/AIMS_1.25.0.tar.gz && rm -rf AIMS.buildbin-libdir && mkdir AIMS.buildbin-libdir && D:\biocbuild\bbs-3.14-bioc\R\bin\R.exe CMD INSTALL --merge-multiarch --build --library=AIMS.buildbin-libdir AIMS_1.25.0.tar.gz && D:\biocbuild\bbs-3.14-bioc\R\bin\R.exe CMD INSTALL AIMS_1.25.0.zip && rm AIMS_1.25.0.tar.gz AIMS_1.25.0.zip
StartedAt: 2021-10-22 16:49:03 -0400 (Fri, 22 Oct 2021)
EndedAt: 2021-10-22 16:52:04 -0400 (Fri, 22 Oct 2021)
EllapsedTime: 181.0 seconds
RetCode: 0
Status:   OK  

Command output

##############################################################################
##############################################################################
###
### Running command:
###
###   C:\cygwin\bin\curl.exe -O http://155.52.207.166/BBS/3.14/bioc/src/contrib/AIMS_1.25.0.tar.gz && rm -rf AIMS.buildbin-libdir && mkdir AIMS.buildbin-libdir && D:\biocbuild\bbs-3.14-bioc\R\bin\R.exe CMD INSTALL --merge-multiarch --build --library=AIMS.buildbin-libdir AIMS_1.25.0.tar.gz && D:\biocbuild\bbs-3.14-bioc\R\bin\R.exe CMD INSTALL AIMS_1.25.0.zip && rm AIMS_1.25.0.tar.gz AIMS_1.25.0.zip
###
##############################################################################
##############################################################################


  % Total    % Received % Xferd  Average Speed   Time    Time     Time  Current
                                 Dload  Upload   Total   Spent    Left  Speed

  0     0    0     0    0     0      0      0 --:--:-- --:--:-- --:--:--     0
 10  393k   10 40527    0     0   262k      0  0:00:01 --:--:--  0:00:01  260k
100  393k  100  393k    0     0  1724k      0 --:--:-- --:--:-- --:--:-- 1717k

install for i386

* installing *source* package 'AIMS' ...
** using staged installation
** R
** data
*** moving datasets to lazyload DB
** inst
** byte-compile and prepare package for lazy loading
** help
*** installing help indices
  converting help for package 'AIMS'
    finding HTML links ... done
    AIMSmodel                               html  
    applyAIMS                               html  
    mcgillExample                           html  
** building package indices
** installing vignettes
** testing if installed package can be loaded from temporary location
** testing if installed package can be loaded from final location
** testing if installed package keeps a record of temporary installation path

install for x64

* installing *source* package 'AIMS' ...
** testing if installed package can be loaded
* MD5 sums
packaged installation of 'AIMS' as AIMS_1.25.0.zip
* DONE (AIMS)
* installing to library 'D:/biocbuild/bbs-3.14-bioc/R/library'
package 'AIMS' successfully unpacked and MD5 sums checked