Name | Last modified | Size | Description | |
---|---|---|---|---|
Parent Directory | - | |||
buildbin-out.txt | 29-Jun-2024 00:40 | 4.4K | ||
buildbin-summary.dcf | 29-Jun-2024 00:40 | 529 | ||
buildsrc-out.txt | 29-Jun-2024 00:40 | 909 | ||
buildsrc-summary.dcf | 29-Jun-2024 00:40 | 427 | ||
checksrc-out.txt | 29-Jun-2024 00:40 | 3.9K | ||
checksrc-summary.dcf | 29-Jun-2024 00:40 | 443 | ||
install-out.txt | 29-Jun-2024 00:40 | 2.6K | ||
install-summary.dcf | 29-Jun-2024 00:40 | 268 | ||