Name | Last modified | Size | Description | |
---|---|---|---|---|
Parent Directory | - | |||
buildsrc-out.txt | 29-Mar-2024 00:40 | 815 | ||
buildsrc-summary.dcf | 29-Mar-2024 00:40 | 426 | ||
checksrc-out.txt | 29-Mar-2024 00:40 | 7.1K | ||
checksrc-summary.dcf | 29-Mar-2024 00:40 | 446 | ||
install-out.txt | 29-Mar-2024 00:40 | 962 | ||
install-summary.dcf | 29-Mar-2024 00:40 | 268 | ||