Back to Multiple platform build/check report for BioC 3.18:   simplified   long
[A]BCDEFGHIJKLMNOPQRSTUVWXYZ

This page was generated on 2023-09-23 11:37:01 -0400 (Sat, 23 Sep 2023).

HostnameOSArch (*)R versionInstalled pkgs
nebbiolo2Linux (Ubuntu 22.04.2 LTS)x86_644.3.1 (2023-06-16) -- "Beagle Scouts" 4659
palomino4Windows Server 2022 Datacenterx644.3.1 (2023-06-16 ucrt) -- "Beagle Scouts" 4394
lconwaymacOS 12.6.5 Montereyx86_644.3.1 Patched (2023-06-17 r84564) -- "Beagle Scouts" 4408
kunpeng2Linux (openEuler 22.03 LTS-SP1)aarch644.3.1 (2023-06-16) -- "Beagle Scouts" 4397
Click on any hostname to see more info about the system (e.g. compilers)      (*) as reported by 'uname -p', except on Windows and Mac OS X

Package 7/2233HostnameOS / ArchINSTALLBUILDCHECKBUILD BIN
ABarray 1.69.0  (landing page)
Yongming Andrew Sun
Snapshot Date: 2023-09-22 14:05:07 -0400 (Fri, 22 Sep 2023)
git_url: https://git.bioconductor.org/packages/ABarray
git_branch: devel
git_last_commit: cedda74
git_last_commit_date: 2023-04-25 09:43:58 -0400 (Tue, 25 Apr 2023)
nebbiolo2Linux (Ubuntu 22.04.2 LTS) / x86_64  OK    OK    OK  UNNEEDED, same version is already published
palomino4Windows Server 2022 Datacenter / x64  OK    OK    OK    OK  UNNEEDED, same version is already published
lconwaymacOS 12.6.5 Monterey / x86_64  OK    OK    OK    OK  UNNEEDED, same version is already published
kunpeng2Linux (openEuler 22.03 LTS-SP1) / aarch64  OK    OK    OK  

BUILD BIN results for ABarray on palomino4


To the developers/maintainers of the ABarray package:
- Allow up to 24 hours (and sometimes 48 hours) for your latest push to git@git.bioconductor.org:packages/ABarray.git to reflect on this report. See Troubleshooting Build Report for more information.
- Use the following Renviron settings to reproduce errors and warnings.
- If 'R CMD check' started to fail recently on the Linux builder(s) over a missing dependency, add the missing dependency to 'Suggests:' in your DESCRIPTION file. See Renviron.bioc for more information.

raw results


Summary

Package: ABarray
Version: 1.69.0
Command: rm -rf ABarray.buildbin-libdir && mkdir ABarray.buildbin-libdir && F:\biocbuild\bbs-3.18-bioc\R\bin\R.exe CMD INSTALL --build --library=ABarray.buildbin-libdir ABarray_1.69.0.tar.gz
StartedAt: 2023-09-23 07:41:43 -0400 (Sat, 23 Sep 2023)
EndedAt: 2023-09-23 07:42:02 -0400 (Sat, 23 Sep 2023)
EllapsedTime: 19.5 seconds
RetCode: 0
Status:   OK  
PackageFile: ABarray_1.69.0.zip
PackageFileSize: 510.4 KiB

Command output

##############################################################################
##############################################################################
###
### Running command:
###
###   rm -rf ABarray.buildbin-libdir && mkdir ABarray.buildbin-libdir && F:\biocbuild\bbs-3.18-bioc\R\bin\R.exe CMD INSTALL --build --library=ABarray.buildbin-libdir ABarray_1.69.0.tar.gz
###
##############################################################################
##############################################################################


* installing *source* package 'ABarray' ...
** using staged installation
** R
** inst
** byte-compile and prepare package for lazy loading
** help
*** installing help indices
** building package indices
** installing vignettes
** testing if installed package can be loaded from temporary location
** testing if installed package can be loaded from final location
** testing if installed package keeps a record of temporary installation path
* MD5 sums
packaged installation of 'ABarray' as ABarray_1.69.0.zip
* DONE (ABarray)