Index of /checkResults/devel/bioc-LATEST/ABAEnrichment/raw-results

[ICO]NameLast modifiedSizeDescription

[DIR]Parent Directory  -  
[   ]info.dcf22-Jan-2022 01:10 280  
[DIR]merida1/22-Jan-2022 01:10 -  
[DIR]nebbiolo1/22-Jan-2022 01:05 -  
[DIR]palomino3/22-Jan-2022 01:08 -  
[DIR]riesling1/22-Jan-2022 01:06 -