Back to Multiple platform build/check report for BioC 3.15
[A]BCDEFGHIJKLMNOPQRSTUVWXYZ

This page was generated on 2022-01-21 11:05:27 -0500 (Fri, 21 Jan 2022).

HostnameOSArch (*)R versionInstalled pkgs
nebbiolo1Linux (Ubuntu 20.04.4 LTS)x86_64R Under development (unstable) (2022-01-05 r81451) -- "Unsuffered Consequences" 4163
riesling1Windows Server 2019 Standardx64R Under development (unstable) (2021-11-21 r81221) -- "Unsuffered Consequences" 4058
palomino3Windows Server 2022 Datacenterx64R Under development (unstable) (2021-12-21 r81400 ucrt) -- "Unsuffered Consequences" 4000
merida1macOS 10.14.6 Mojavex86_64R Under development (unstable) (2022-01-05 r81451) -- "Unsuffered Consequences" 4117
Click on any hostname to see more info about the system (e.g. compilers)      (*) as reported by 'uname -p', except on Windows and Mac OS X

BUILD results for ABAEnrichment on nebbiolo1


To the developers/maintainers of the ABAEnrichment package:
- Please allow up to 24 hours (and sometimes 48 hours) for your latest push to git@git.bioconductor.org:packages/ABAEnrichment.git to
reflect on this report. See How and When does the builder pull? When will my changes propagate? here for more information.
- Make sure to use the following settings in order to reproduce any error or warning you see on this page.

raw results

Package 7/2075HostnameOS / ArchINSTALLBUILDCHECKBUILD BIN
ABAEnrichment 1.25.1  (landing page)
Steffi Grote
Snapshot Date: 2022-01-20 13:55:17 -0500 (Thu, 20 Jan 2022)
git_url: https://git.bioconductor.org/packages/ABAEnrichment
git_branch: master
git_last_commit: aa43e0a
git_last_commit_date: 2021-11-15 13:30:05 -0500 (Mon, 15 Nov 2021)
nebbiolo1Linux (Ubuntu 20.04.4 LTS) / x86_64  ERROR    ERROR  skipped
riesling1Windows Server 2019 Standard / x64  ERROR    ERROR  skippedskipped
palomino3Windows Server 2022 Datacenter / x64  ERROR    ERROR  skippedskipped
merida1macOS 10.14.6 Mojave / x86_64  ERROR    ERROR  skippedskipped

Summary

Package: ABAEnrichment
Version: 1.25.1
Command: /home/biocbuild/bbs-3.15-bioc/R/bin/R CMD build --keep-empty-dirs --no-resave-data ABAEnrichment
StartedAt: 2022-01-20 15:43:15 -0500 (Thu, 20 Jan 2022)
EndedAt: 2022-01-20 15:43:17 -0500 (Thu, 20 Jan 2022)
EllapsedTime: 1.4 seconds
RetCode: 1
Status:   ERROR  
PackageFile: None
PackageFileSize: NA

Command output

##############################################################################
##############################################################################
###
### Running command:
###
###   /home/biocbuild/bbs-3.15-bioc/R/bin/R CMD build --keep-empty-dirs --no-resave-data ABAEnrichment
###
##############################################################################
##############################################################################


* checking for file ‘ABAEnrichment/DESCRIPTION’ ... OK
* preparing ‘ABAEnrichment’:
* checking DESCRIPTION meta-information ... OK
* cleaning src
* installing the package to process help pages
      -----------------------------------
ERROR: dependency ‘ABAData’ is not available for package ‘ABAEnrichment’
* removing ‘/tmp/Rtmpzqv0o6/Rinst381c2e59188b00/ABAEnrichment’
      -----------------------------------
ERROR: package installation failed